BEGIN:VCALENDAR
VERSION:2.0
PRODID:-//wp-events-plugin.com//7.2.3.1//EN
TZID:America/New_York
X-WR-TIMEZONE:America/New_York
BEGIN:VEVENT
UID:153248@kingstonhappenings.org
DTSTART;TZID=America/New_York:20251228T193000
DTEND;TZID=America/New_York:20251228T193000
DTSTAMP:20251222T171236Z
URL:https://kingstonhappenings.org/events/zohar-adam-cabo/
SUMMARY:Zohar & Adam Cabo
DESCRIPTION:With opening act: Sticks Squeaks and Keys\nBrothers Zohar &amp\
 ; Adam Cabo are fast becoming one of the most talked about new acts in Jaz
 z. With Zohar on keyboards and Adam on drums\, these rising young stars br
 ing a lifetime of musical experiences and influences to bear on their ecle
 ctic\, genre-bending duo performances. Born to musician parents Richard Ca
 bo (former Latin big band leader) and Dassi Rosenkrantz (bassist\, record 
 producer\, and educator)\, the two brothers\, together with their sister N
 oga\, were veteran performers before they reached their teens\, even recor
 ding an album as a family band at the legendary Sun Studios in Memphis.
ATTACH;FMTTYPE=image/jpeg:https://kingstonhappenings.org/wp-content/upload
 s/2025/12/583908561_1252505230245080_1654273438756041206_n.jpg
CATEGORIES:@Featured,@Newsletter,Music,Nightlife and entertainment
LOCATION:The Falcon\, 1348 Route 9W\, Marlboro\, NY\, United States
GEO:41.6061213;-73.97065420000001
X-APPLE-STRUCTURED-LOCATION;VALUE=URI;X-ADDRESS=1348 Route 9W\, Marlboro\, 
 NY\, United States;X-APPLE-RADIUS=100;X-TITLE=The Falcon:geo:41.6061213,-7
 3.97065420000001
END:VEVENT
BEGIN:VTIMEZONE
TZID:America/New_York
X-LIC-LOCATION:America/New_York
BEGIN:STANDARD
DTSTART:20251102T010000
TZOFFSETFROM:-0400
TZOFFSETTO:-0500
TZNAME:EST
END:STANDARD
END:VTIMEZONE
END:VCALENDAR