BEGIN:VCALENDAR
VERSION:2.0
PRODID:-//wp-events-plugin.com//7.2.3.1//EN
TZID:America/New_York
X-WR-TIMEZONE:America/New_York
BEGIN:VEVENT
UID:152279@kingstonhappenings.org
DTSTART;TZID=America/New_York:20251101T210000
DTEND;TZID=America/New_York:20251101T234500
DTSTAMP:20251029T115323Z
URL:https://kingstonhappenings.org/events/your-favorite-person-a-whole-not
 her-tinker-st-tavern/
SUMMARY:Your Favorite Person &amp\; A Whole Nother @ Tinker St. Tavern
DESCRIPTION:Doors at 9 PM\n\nMusic at 10 PM\n\nNo cover//free.99\n\n&nbsp\;
 \n\nMusic by:\n\n&nbsp\;\n\nA Whole Nother\n\n&nbsp\;\n\nYour Favorite Per
 son
ATTACH;FMTTYPE=image/jpeg:https://kingstonhappenings.org/wp-content/upload
 s/2025/10/1101-Tinker-st-Tavern.jpg
CATEGORIES:@Featured,@Newsletter,Music
LOCATION:Tinker St. Tavern\, 297 Tinker St. \, Woodstock\, New York\, 12498
 \, United States
GEO:42.04022;-74.154159
X-APPLE-STRUCTURED-LOCATION;VALUE=URI;X-ADDRESS=297 Tinker St. \, Woodstock
 \, New York\, 12498\, United States;X-APPLE-RADIUS=100;X-TITLE=Tinker St. 
 Tavern:geo:42.04022,-74.154159
END:VEVENT
BEGIN:VTIMEZONE
TZID:America/New_York
X-LIC-LOCATION:America/New_York
BEGIN:DAYLIGHT
DTSTART:20250309T030000
TZOFFSETFROM:-0500
TZOFFSETTO:-0400
TZNAME:EDT
END:DAYLIGHT
END:VTIMEZONE
END:VCALENDAR