BEGIN:VCALENDAR
VERSION:2.0
PRODID:-//wp-events-plugin.com//7.2.3.1//EN
TZID:America/New_York
X-WR-TIMEZONE:America/New_York
BEGIN:VEVENT
UID:155766@kingstonhappenings.org
DTSTART;TZID=America/New_York:20260322T170000
DTEND;TZID=America/New_York:20260322T191500
DTSTAMP:20260316T191029Z
URL:https://kingstonhappenings.org/events/wuthering-heights-3/
SUMMARY:Wuthering Heights
DESCRIPTION:From visionary filmmaker Emerald Fennell comes a bold new adapt
 ation of Emily Brontë’s classic novel Wuthering Heights. Set against th
 e windswept Yorkshire moors\, the story follows the passionate and destruc
 tive bond between Catherine Earnshaw (Margot Robbie) and the brooding outs
 ider Heathcliff (Jacob Elordi). As their intense love collides with class 
 divisions\, jealousy\, and betrayal\, their choices ignite a tragic chain 
 of events that reverberates through generations.\n\n“What’s lovable ab
 out it is love itself: Fennell’s “Wuthering Heights” is an unabashed
 ly romantic movie emerging at a time when few such films are being made\,
 ” Richard Brody\, The New Yorker
ATTACH;FMTTYPE=image/jpeg:https://kingstonhappenings.org/wp-content/upload
 s/2026/03/WUTHERing-1.jpg
CATEGORIES:@Featured,@Newsletter,Movies
LOCATION:Rosendale Theater\, 408 Main St\, Rosendale\, New York\, 12472\, U
 nited States
GEO:41.8441401;-74.0821133
X-APPLE-STRUCTURED-LOCATION;VALUE=URI;X-ADDRESS=408 Main St\, Rosendale\, N
 ew York\, 12472\, United States;X-APPLE-RADIUS=100;X-TITLE=Rosendale Theat
 er:geo:41.8441401,-74.0821133
END:VEVENT
BEGIN:VTIMEZONE
TZID:America/New_York
X-LIC-LOCATION:America/New_York
BEGIN:DAYLIGHT
DTSTART:20260308T030000
TZOFFSETFROM:-0500
TZOFFSETTO:-0400
TZNAME:EDT
END:DAYLIGHT
END:VTIMEZONE
END:VCALENDAR