BEGIN:VCALENDAR
VERSION:2.0
PRODID:-//wp-events-plugin.com//7.2.3.1//EN
TZID:America/New_York
X-WR-TIMEZONE:America/New_York
BEGIN:VEVENT
UID:153253@kingstonhappenings.org
DTSTART;TZID=America/New_York:20251231T180000
DTEND;TZID=America/New_York:20260101T003000
DTSTAMP:20251229T165018Z
URL:https://kingstonhappenings.org/events/wtf-new-years-eve-kill-bill-the-
 whole-bloody-affair-at-the-rosendale-theatre/
SUMMARY:WTF New Year's Eve: Kill Bill: The Whole Bloody Affair at the Rosen
 dale Theatre
DESCRIPTION:\n\n\n\n\n\n\n\nJoin us on New Year’s Eve to put 2025 out of 
 its misery WTF Wednesday style with a special presentation of KILL BILL: 
 THE WHOLE BLOODY AFFAIR!\n\nThe evening kicks off with a “schlocktail ho
 ur” from 6-7pm. Come chill at the theatre before the show and enjoy a do
 llar-off beer\, wine and cider\, while listening to some Tarantino inspire
 d tunes.\n\nThen at 7 we’ll have a brand new preshow from the VHS virtuo
 sos at Sleepover Trading Co.!\n\nThe screening will kick off at 7:30\, wit
 h a fifteen minute intermission between Volume 1 and Volume 2.\n\nAnd of c
 ourse\, at midnight there’ll be a free champagne toast over Bill’s dea
 d body!\n\nDon’t miss your chance to witness 275 minutes of sweet\, swee
 t revenge on the big screen\, and give 2025 the ol’ Five Point Palm Expl
 oding Heart Technique on its way out the door!\n\nWTF New Year’s Eve: KI
 LL BILL: THE WHOLE BLOODY AFFAIR\nWednesday\, December 31st\nDoors: 6pm\nS
 chlocktail Hour: 6-7pm\nPreshow: 7pm\nScreening: 7:30pm\nBUY TICKETS\n\n\n
 Quentin Tarantino’s KILL BILL: THE WHOLE BLOODY AFFAIR unites Volume 1 a
 nd Volume 2 into a single\, unrated epic – presented exactly as he inten
 ded\, complete with a new\, never-before-seen anime sequence.\n\nUma Thurm
 an stars as The Bride\, left for dead after her former boss and lover\, Bi
 ll\, ambushes her wedding rehearsal\, shooting her in the head and stealin
 g her unborn child. To exact her vengeance\, she must first hunt down the 
 four remaining members of the Deadly Viper Assassination Squad before conf
 ronting Bill himself. With its operatic scope\, relentless action\, and ic
 onic style\, THE WHOLE BLOODY AFFAIR stands as one of cinema’s definitiv
 e revenge sagas – rarely shown in its complete form\, and now presented 
 with a classic intermission.\n\n\nWTF Wednesday is presented by BlobCo.\n\
 n\n\n\n\n
ATTACH;FMTTYPE=image/jpeg:https://kingstonhappenings.org/wp-content/upload
 s/2025/12/1_Kill-Bill-Theater-Slide.jpg
CATEGORIES:@Featured,@Newsletter,Festivals and major community
 events,Movies
LOCATION:Rosendale Theater\, 408 Main St\, Rosendale\, New York\, 12472\, U
 nited States
GEO:41.8441401;-74.0821133
X-APPLE-STRUCTURED-LOCATION;VALUE=URI;X-ADDRESS=408 Main St\, Rosendale\, N
 ew York\, 12472\, United States;X-APPLE-RADIUS=100;X-TITLE=Rosendale Theat
 er:geo:41.8441401,-74.0821133
END:VEVENT
BEGIN:VTIMEZONE
TZID:America/New_York
X-LIC-LOCATION:America/New_York
BEGIN:STANDARD
DTSTART:20251102T010000
TZOFFSETFROM:-0400
TZOFFSETTO:-0500
TZNAME:EST
END:STANDARD
END:VTIMEZONE
END:VCALENDAR