BEGIN:VCALENDAR
VERSION:2.0
PRODID:-//wp-events-plugin.com//7.2.3.1//EN
TZID:America/New_York
X-WR-TIMEZONE:America/New_York
BEGIN:VEVENT
UID:156316@kingstonhappenings.org
DTSTART;TZID=America/New_York:20260507T183000
DTEND;TZID=America/New_York:20260507T200000
DTSTAMP:20260416T141038Z
URL:https://kingstonhappenings.org/events/writing-workshop-led-by-poet-rob
 yn-hager/
SUMMARY:Writing Workshop - Led by poet Robyn Hager
DESCRIPTION:Looking to share your creative writing and receive feedback fro
 m fellow writers? Looking for a workshop that caters to your needs and bri
 ngs your new or unfinished work to life?\nLed by poet Robyn Hager\, this c
 reative writing workshop will help participants come up with original idea
 s for their writing and progress each week by assessing the needs of those
  attending to see how to provide the most accessible and productive worksh
 op space.\n\nRobyn is also the host of White Noise\, a Kingston-based mont
 hly performance and open mic event\, and a journalist for the Kingston Wi
 re and Shawangunk Journal. She received her Masters in Creative Writing 
 from SUNY New Paltz and published her first poetry collection in 2019. She
  has since had poems published in small presses across the US and Europe.\
 n\nSharing writing\, whether personal or fictional\, is an essential part 
 of the workshopping experience. We encourage new and seasoned writers to u
 se this workshop as a way to gather new perspectives and approaches to the
 ir craft and work towards full-length collections\, individual submissions
  for publication\, or performance-ready pieces.\n\nThere are no requiremen
 ts to join this free workshop\, though we ask you to fill out the Google F
 orm linked below to register to gauge experience and needs coming in. LIN
 K HERE\n\nDate: Thursday\, May 7th\n\nTime: 6:30 - 8 p.m.\n\nLocation: CoW
 ork Kingston\, 8 North Front Street\, Kingston\n\nFor more information\, e
 mail: coworkwrites@gmail.com
ATTACH;FMTTYPE=image/jpeg:https://kingstonhappenings.org/wp-content/upload
 s/2026/04/Creative-Writing-Workshop-flyer.jpg
CATEGORIES:@Featured,Educational classes and lectures
LOCATION:CoWork Kingston\, 8 N. Front St. \, Kingston\, New York \, 12401\,
  United States
GEO:41.935168;-74.019098
X-APPLE-STRUCTURED-LOCATION;VALUE=URI;X-ADDRESS=8 N. Front St. \, Kingston\
 , New York \, 12401\, United States;X-APPLE-RADIUS=100;X-TITLE=CoWork King
 ston:geo:41.935168,-74.019098
END:VEVENT
BEGIN:VTIMEZONE
TZID:America/New_York
X-LIC-LOCATION:America/New_York
BEGIN:DAYLIGHT
DTSTART:20260308T030000
TZOFFSETFROM:-0500
TZOFFSETTO:-0400
TZNAME:EDT
END:DAYLIGHT
END:VTIMEZONE
END:VCALENDAR