BEGIN:VCALENDAR
VERSION:2.0
PRODID:-//wp-events-plugin.com//7.2.3.1//EN
TZID:America/New_York
X-WR-TIMEZONE:America/New_York
BEGIN:VEVENT
UID:152281@kingstonhappenings.org
DTSTART;TZID=America/New_York:20251025T140000
DTEND;TZID=America/New_York:20251025T160000
DTSTAMP:20251027T132808Z
URL:https://kingstonhappenings.org/events/writers-read-presents-the-photog
 raph-hudson-valley-storytelling-event-oct-25/
SUMMARY:Writers Read Presents 'The Photograph': Hudson Valley Storytelling 
 Event Oct. 25
DESCRIPTION:Writers Read Presents "The Photograph": A Live Storytelling Eve
 nt\nKINGSTON\, NY\,  October 9\, 2025—Writers Read\, a premier live sto
 rytelling series\, presents "The Photograph" on Saturday\, October 25 at 2
 :00 PM at CPW in Kingston\, New York. This special Hudson Valley event fea
 tures a cast of talented writers sharing five-minute stories behind unforg
 ettable images. Local cast members include veteran screenwriters Peter Wor
 tmann and John Pielmeier\, distinguished journalist Daisy Sindelar\, and a
 ctress Margarita Meyendorff.\nA photograph freezes a moment in time\, but 
 some images stay with us long after the moment has passed\, evolving as we
  do\, sparking memories and emotions that grow deeper with time. For this 
 event\, Writers Read challenged writers to explore a photograph they keep 
 returning to—whether physically displayed in their homes or preserved on
 ly in imagination.\n"We asked our writers to consider: Is the image from a
  family album\, a book\, or something seen in a museum?" said founder and 
 host Ed McCann. "Were they the one behind the camera or in the frame? What
  draws them back to this particular image—the location\, a figure in the
  foreground\, or something obscured in the shadows?"\nThe result is an int
 imate afternoon of true\, personal narratives that reveal how a single pho
 tograph can capture loss\, joy\, identity\, transformation\, and memory it
 self.\nEVENT DETAILS:\n\n\n 	What: Writers Read presents "The Photograph"\
 n 	When: Saturday\, October 25\, 2025\, 2:00 -- 4:00 PM • A show in two
  acts with a brief intermission\n 	Where: CPW (The Center for Photography)
 \, 25 Dederick Street\, Kingston\, NY\n 	Tickets: $25 / Wine reception (in
 cluded) follows from 4:00 to 5:00 PM\n\nAbout Writers Read • Founded in
  2013 and described as “the true story version of Selected Shorts\,” W
 riters Read is a literary nonprofit organization with a mission to create 
 performance opportunities for writers. Presentation partners for Writers R
 ead’s submission based\, curated programs include Carnegie Hall\, Bryant
  Park\, and Vassar College\, and each live event centers on a broad topic 
 like “High School\,” “Cooking\,” or “Money.” With a strong emp
 hasis on craft\, the Writers Read podcast is available on all major podcas
 t platforms.\n\nAbout CPW • CPW is a community-based museum and school t
 hat encourages emerging artists\, experimental ideas\, and relevant debate
 s about photography and visual culture. A gathering place for critical dia
 logue and creative discovery in photography and related media\, CPW’s mi
 ssion is to effect social change through innovative and inspiring programs
  that explore photography as an adept medium for understanding ourselves\,
  our communities\, and our society.
ATTACH;FMTTYPE=image/jpeg:https://kingstonhappenings.org/wp-content/upload
 s/2025/10/IMG_0080.jpeg
CATEGORIES:@Featured,@Newsletter,Theater
LOCATION:Center for Photography at Woodstock(CPW)\, 25 Dederick St. \, King
 ston\, NY\, 12401\, United States
GEO:41.92761;-73.998774
X-APPLE-STRUCTURED-LOCATION;VALUE=URI;X-ADDRESS=25 Dederick St. \, Kingston
 \, NY\, 12401\, United States;X-APPLE-RADIUS=100;X-TITLE=Center for Photog
 raphy at Woodstock(CPW):geo:41.92761,-73.998774
END:VEVENT
BEGIN:VTIMEZONE
TZID:America/New_York
X-LIC-LOCATION:America/New_York
BEGIN:DAYLIGHT
DTSTART:20250309T030000
TZOFFSETFROM:-0500
TZOFFSETTO:-0400
TZNAME:EDT
END:DAYLIGHT
END:VTIMEZONE
END:VCALENDAR