BEGIN:VCALENDAR
VERSION:2.0
PRODID:-//wp-events-plugin.com//7.2.3.1//EN
TZID:America/New_York
X-WR-TIMEZONE:America/New_York
BEGIN:VEVENT
UID:153001@kingstonhappenings.org
DTSTART;TZID=America/New_York:20260110T193000
DTEND;TZID=America/New_York:20260110T213000
DTSTAMP:20251202T162126Z
URL:https://kingstonhappenings.org/events/woodstock-symphony-orchestra-voi
 ces-of-revolution/
SUMMARY:Woodstock Symphony Orchestra: Voices of Revolution
DESCRIPTION:The Woodstock Symphony Orchestra celebrates the new year with 
 “Voices of Revolution.” Works include Fanny Mendelssohn’s Overture i
 n C Major\, Beethoven’s Symphony No. 3\, and soloist Chris Santos will p
 erform the Schumann Cello Concerto in A Minor\, Op. 129.\nThe concert will
  be held on Saturday 01/10/26\, 7:30 PM\, at the Woodstock Playhouse\, 103
  Mill Hill Road\, Woodstock NY 12498. In the event of inclement weather\, 
 the concert will be held on Sunday\, 1/11\, at 3:00 pm.\nTickets are avail
 able at https://www.woodstockplayhouse.org or by calling (845) 679-6900\; 
 Adults $40\, Seniors and Veterans $35\, and Students $10.\nFor information
  about the WSO\, visit https://www.woodstocksymphony.org or call (845) 266
 -3517.
ATTACH;FMTTYPE=image/jpeg:https://kingstonhappenings.org/wp-content/upload
 s/2025/12/chris-santos-cello.jpg
CATEGORIES:@Featured,Music
LOCATION:Woodstock Playhouse\, 103 Mill Hill Rd\, Woodstock\, New York\, 12
 401\, United States
GEO:42.0384701;-74.11116179999999
X-APPLE-STRUCTURED-LOCATION;VALUE=URI;X-ADDRESS=103 Mill Hill Rd\, Woodstoc
 k\, New York\, 12401\, United States;X-APPLE-RADIUS=100;X-TITLE=Woodstock 
 Playhouse:geo:42.0384701,-74.11116179999999
END:VEVENT
BEGIN:VTIMEZONE
TZID:America/New_York
X-LIC-LOCATION:America/New_York
BEGIN:STANDARD
DTSTART:20251102T010000
TZOFFSETFROM:-0400
TZOFFSETTO:-0500
TZNAME:EST
END:STANDARD
END:VTIMEZONE
END:VCALENDAR