BEGIN:VCALENDAR
VERSION:2.0
PRODID:-//wp-events-plugin.com//7.2.3.1//EN
TZID:America/New_York
X-WR-TIMEZONE:America/New_York
BEGIN:VEVENT
UID:152609@kingstonhappenings.org
DTSTART;TZID=America/New_York:20251122T193000
DTEND;TZID=America/New_York:20251122T213000
DTSTAMP:20251105T203523Z
URL:https://kingstonhappenings.org/events/woodstock-symphony-orchestra-res
 onant-beginnings/
SUMMARY:Woodstock Symphony Orchestra: Resonant Beginnings
DESCRIPTION:The Woodstock Symphony Orchestra opens its 46th season with “
 Resonant Beginnings” featuring works by Liszt\, Sibelius\, and soloist B
 ill Owens will perform the Hummel Trumpet Concerto in Eb Major.\n\nThe con
 cert will be held on Saturday 11/22/2025\, 7:30 PM\, at the Woodstock Play
 house\, 103 Mill Hill Road\, Woodstock NY 12498.\n\nTickets are available 
 at https://www.woodstockplayhouse.org or by calling (845) 679-6900\; Adult
 s $40\, Seniors and Veterans $35\, and Students $10.\n\nFor information ab
 out the WSO\, visit https://www.woodstocksymphony.org or call (845) 266-35
 17.
ATTACH;FMTTYPE=image/jpeg:https://kingstonhappenings.org/wp-content/upload
 s/2025/11/561396015_1384640523667501_1293366391403054655_n.jpg
CATEGORIES:@Featured,Music
LOCATION:Woodstock Playhouse\, 103 Mill Hill Rd\, Woodstock\, New York\, 12
 401\, United States
GEO:42.0384701;-74.11116179999999
X-APPLE-STRUCTURED-LOCATION;VALUE=URI;X-ADDRESS=103 Mill Hill Rd\, Woodstoc
 k\, New York\, 12401\, United States;X-APPLE-RADIUS=100;X-TITLE=Woodstock 
 Playhouse:geo:42.0384701,-74.11116179999999
END:VEVENT
BEGIN:VTIMEZONE
TZID:America/New_York
X-LIC-LOCATION:America/New_York
BEGIN:STANDARD
DTSTART:20251102T010000
TZOFFSETFROM:-0400
TZOFFSETTO:-0500
TZNAME:EST
END:STANDARD
END:VTIMEZONE
END:VCALENDAR