BEGIN:VCALENDAR
VERSION:2.0
PRODID:-//wp-events-plugin.com//7.2.3.1//EN
TZID:America/New_York
X-WR-TIMEZONE:America/New_York
BEGIN:VEVENT
UID:151900@kingstonhappenings.org
DTSTART;TZID=America/New_York:20251005T140000
DTEND;TZID=America/New_York:20251005T150000
DTSTAMP:20250917T012617Z
URL:https://kingstonhappenings.org/events/woodstock-symphony-orchestra-fre
 e-concert/
SUMMARY:Woodstock Symphony Orchestra Free Concert
DESCRIPTION:Join the Woodstock Symphony Orchestra for a free concert\, feat
 uring performances by members and friends of the orchestra. On Sunday\, Oc
 tober 5\, 2025\, at 2:00 PM at Old Dutch Church\, Bethany Hall\, 272 Wall 
 Street\, Kingston\, NY 12401. Stay for refreshments after the concert to m
 eet the performers and WSO conductor Mina Kim.
ATTACH;FMTTYPE=image/jpeg:https://kingstonhappenings.org/wp-content/upload
 s/2025/09/WSO-10.5.25.jpg
CATEGORIES:@Featured
LOCATION:Old Dutch Church\, 272 Wall St\, Kingston\, NY\, 12401\, United St
 ates
GEO:41.932863;-74.018839
X-APPLE-STRUCTURED-LOCATION;VALUE=URI;X-ADDRESS=272 Wall St\, Kingston\, NY
 \, 12401\, United States;X-APPLE-RADIUS=100;X-TITLE=Old Dutch Church:geo:4
 1.932863,-74.018839
END:VEVENT
BEGIN:VTIMEZONE
TZID:America/New_York
X-LIC-LOCATION:America/New_York
BEGIN:DAYLIGHT
DTSTART:20250309T030000
TZOFFSETFROM:-0500
TZOFFSETTO:-0400
TZNAME:EDT
END:DAYLIGHT
END:VTIMEZONE
END:VCALENDAR