BEGIN:VCALENDAR
VERSION:2.0
PRODID:-//wp-events-plugin.com//7.2.3.1//EN
TZID:America/New_York
X-WR-TIMEZONE:America/New_York
BEGIN:VEVENT
UID:155799@kingstonhappenings.org
DTSTART;TZID=America/New_York:20260315T180000
DTEND;TZID=America/New_York:20260315T230000
DTSTAMP:20260316T123742Z
URL:https://kingstonhappenings.org/events/woodstock-film-festivals-oscars-
 viewing-party/
SUMMARY:Woodstock Film Festival’s Oscars® Viewing Party
DESCRIPTION:Join the Woodstock Film Festival once again at Assembly Kingsto
 n in the Uptown Stockade District as we celebrate Hollywood’s biggest ni
 ght—the Oscars®! Enjoy delicious hors d'oeuvres\, dinner\, and drinks w
 hile taking in a live screening of the Academy Awards® with a vibrant com
 munity of fellow film lovers.\n\nDress code is semi-casual (glam up is opt
 ional but no jeans or sneakers\, please).\n\nA fabulous silent auction wil
 l also be available\, featuring incredible items up for bid. Take part in 
 our Oscars® Winning Prediction Ballot—bring cash or card and make your 
 best guesses!\n\nTickets must be purchased in advance. $125/pp includes fo
 od and drink.\n\nPlease note you will have to create a simple account with
  Tixr in order to confirm purchase.\n\nDoors open at 6pm. The Academy Awar
 ds ceremony begins at 7pm.\n\nVisit: https://woodstockfilmfestival.org/ev
 ents/2026/oscars for more info! Questions? Email WFF at tickets@woodstock
 filmfestival.org
ATTACH;FMTTYPE=image/jpeg:https://kingstonhappenings.org/wp-content/upload
 s/2026/03/Screenshot-2026-03-09-085727.png
CATEGORIES:@Featured,@Newsletter,Movies,Nightlife and entertainment
LOCATION:Assembly\, 236 Wall St. 3rd Floor\, KINGSTON\, NY\, 12401\, United
  States
GEO:41.931738;-74.018648
X-APPLE-STRUCTURED-LOCATION;VALUE=URI;X-ADDRESS=236 Wall St. 3rd Floor\, KI
 NGSTON\, NY\, 12401\, United States;X-APPLE-RADIUS=100;X-TITLE=Assembly:ge
 o:41.931738,-74.018648
END:VEVENT
BEGIN:VTIMEZONE
TZID:America/New_York
X-LIC-LOCATION:America/New_York
BEGIN:DAYLIGHT
DTSTART:20260308T030000
TZOFFSETFROM:-0500
TZOFFSETTO:-0400
TZNAME:EDT
END:DAYLIGHT
END:VTIMEZONE
END:VCALENDAR