BEGIN:VCALENDAR
VERSION:2.0
PRODID:-//wp-events-plugin.com//7.2.3.1//EN
TZID:America/New_York
X-WR-TIMEZONE:America/New_York
BEGIN:VEVENT
UID:155298@kingstonhappenings.org
DTSTART;TZID=America/New_York:20260212T160000
DTEND;TZID=America/New_York:20260212T160000
DTSTAMP:20260209T163340Z
URL:https://kingstonhappenings.org/events/wooden-heart-crafternoon/
SUMMARY:Wooden Heart Crafternoon
DESCRIPTION:Start with a wooden heart\, turn it into art!\nCelebrate creati
 vity and a little love at our Wooden Heart Crafternoon! Participants will 
 decorate wooden heart shapes using paint\, dried flowers\, paper ephemera\
 , and more to create a one-of-a-kind keepsake or gift. This relaxed\, hand
 s-on craft is perfect for all skill levels and a fun way to spend an after
 noon.\nSpace is limited and registration is required! Sign up here: https
 ://hurleylibrary.libcal.com/event/16278435
ATTACH;FMTTYPE=image/jpeg:https://kingstonhappenings.org/wp-content/upload
 s/2026/02/624459727_1322527453235473_6588422279620052773_n.jpg
CATEGORIES:@Featured,@Newsletter,Art,Educational classes and
 lectures,Festivals and major community events,Nightlife and entertainment
LOCATION:Hurley Library\, 48 Main St\, Hurley\, New York\, United States
GEO:41.9253483;-74.06352420000002
X-APPLE-STRUCTURED-LOCATION;VALUE=URI;X-ADDRESS=48 Main St\, Hurley\, New Y
 ork\, United States;X-APPLE-RADIUS=100;X-TITLE=Hurley Library:geo:41.92534
 83,-74.06352420000002
END:VEVENT
BEGIN:VTIMEZONE
TZID:America/New_York
X-LIC-LOCATION:America/New_York
BEGIN:STANDARD
DTSTART:20251102T010000
TZOFFSETFROM:-0400
TZOFFSETTO:-0500
TZNAME:EST
END:STANDARD
END:VTIMEZONE
END:VCALENDAR