BEGIN:VCALENDAR
VERSION:2.0
PRODID:-//wp-events-plugin.com//7.2.3.1//EN
TZID:America/New_York
X-WR-TIMEZONE:America/New_York
BEGIN:VEVENT
UID:153138@kingstonhappenings.org
DTSTART;TZID=America/New_York:20251219T190000
DTEND;TZID=America/New_York:20251219T190000
DTSTAMP:20251216T143616Z
URL:https://kingstonhappenings.org/events/wolfman-jack-primal-grateful-dea
 d/
SUMMARY:Wolfman Jack - Primal Grateful Dead
DESCRIPTION:Wolfman Jack is a live music project of musicians from the New 
 England area performing the psychedelic and electrifying Live Dead to Euro
 pe 72' era of The Grateful Dead. A true dance band in the style of such le
 gendary venues as The Fillmore West\, Carousel Ballroom\, Avalon Ballroom\
 , Winterland Arena and the Strand Lyceum. They recreate those vintage sets
  from when the Grateful Dead were first cutting their teeth as a live musi
 c act. Don't miss it https://www.wolfmanjackprimaldead.net/\n\nDoors 6pm 
 | Show 7pm\n\n&nbsp\;
ATTACH;FMTTYPE=image/jpeg:https://kingstonhappenings.org/wp-content/upload
 s/2025/12/575144967_1234542675359690_5491289568326938603_n.jpg
CATEGORIES:@Featured,@Newsletter,Music,Nightlife and entertainment
LOCATION:Colony Woodstock NY\, 22 Rock City Rd\, Woodstock\, New York\, Uni
 ted States
GEO:42.0424924;-74.11799489999999
X-APPLE-STRUCTURED-LOCATION;VALUE=URI;X-ADDRESS=22 Rock City Rd\, Woodstock
 \, New York\, United States;X-APPLE-RADIUS=100;X-TITLE=Colony Woodstock NY
 :geo:42.0424924,-74.11799489999999
END:VEVENT
BEGIN:VTIMEZONE
TZID:America/New_York
X-LIC-LOCATION:America/New_York
BEGIN:STANDARD
DTSTART:20251102T010000
TZOFFSETFROM:-0400
TZOFFSETTO:-0500
TZNAME:EST
END:STANDARD
END:VTIMEZONE
END:VCALENDAR