BEGIN:VCALENDAR
VERSION:2.0
PRODID:-//wp-events-plugin.com//7.2.3.1//EN
TZID:America/New_York
X-WR-TIMEZONE:America/New_York
BEGIN:VEVENT
UID:152943@kingstonhappenings.org
DTSTART;TZID=America/New_York:20251129T110000
DTEND;TZID=America/New_York:20251129T190000
DTSTAMP:20251201T140901Z
URL:https://kingstonhappenings.org/events/wintertide/
SUMMARY:Wintertide
DESCRIPTION:Celebrate the season Saturday\, November 29th\, 11AM–7PM on t
 he Kingston Waterfront- come down for a festive day of fun\, shopping\, an
 d community spirit!Participating stores will be offering special discounts
 \, giveaways &amp\; hosting fun\, free events with something for everyone.
  Tree Lighting at Dusk at the foot of Broadway — sponsored by Hops Petu
 nia &amp\; Clove &amp\; Creek Live Music 5–7 PMOur new neighbors at Uni
 on Street Brewing Co. are sponsoring live music by Finding Alice!Here are 
 just some of the festive happenings so far:Half Moon Rondout Café — Bre
 akfast with Santa + free donut-ornament decorating &amp\; craftsTKG Real E
 state — Interactive story time for kids at noon Hudson River Maritime M
 useum — Spin their Wheel of Fortune to win prizesKingston Wine Co. — W
 ine release party 2–4PM with free snacks &amp\; musicChicory Naturalist 
 — Free twig-ornament making + pop-up carolersThe Dept. of Things — Fre
 e holiday postcard printing Clove &amp\; Creek — Enjoy puppetry by Arm 
 of the Sea Don’t forget your Wintertide Passport (pickup locations To B
 e Announced): Collect stamps at participating businesses for a chance to w
 in amazing local raffle baskets — every stamp earns an entry\, so the mo
 re you visit\, the better your odds!
ATTACH;FMTTYPE=image/jpeg:https://kingstonhappenings.org/wp-content/upload
 s/2025/11/575217188_18533561188013035_6939179649587164295_n.jpg
CATEGORIES:@Featured,@Newsletter,Community,Market
LOCATION:Downtown Rondout Business District\, 1Broadway\, Kingston\, New Yo
 rk\, 12401\, United States
GEO:41.9181579;-73.98303829999998
X-APPLE-STRUCTURED-LOCATION;VALUE=URI;X-ADDRESS=1Broadway\, Kingston\, New 
 York\, 12401\, United States;X-APPLE-RADIUS=100;X-TITLE=Downtown Rondout B
 usiness District:geo:41.9181579,-73.98303829999998
END:VEVENT
BEGIN:VTIMEZONE
TZID:America/New_York
X-LIC-LOCATION:America/New_York
BEGIN:STANDARD
DTSTART:20251102T010000
TZOFFSETFROM:-0400
TZOFFSETTO:-0500
TZNAME:EST
END:STANDARD
END:VTIMEZONE
END:VCALENDAR