BEGIN:VCALENDAR
VERSION:2.0
PRODID:-//wp-events-plugin.com//7.2.3.1//EN
TZID:America/New_York
X-WR-TIMEZONE:America/New_York
BEGIN:VEVENT
UID:153379@kingstonhappenings.org
DTSTART;TZID=America/New_York:20260110T130000
DTEND;TZID=America/New_York:20260110T150000
DTSTAMP:20260112T125335Z
URL:https://kingstonhappenings.org/events/winter-sowing-and-cold-stratific
 ation-workshop/
SUMMARY:Winter Sowing and Cold Stratification Workshop
DESCRIPTION:The Hudson Valley Plant Exchange will be hosting a Winter Sowin
 g and Cold Stratification Workshop at Kingston Library on January 10\, 202
 6 between 1-3pm.\nThanks to those of you who contributed to meet our fundr
 aising goals so that we can make this event free for everyone!\nWe love\, 
 appreciate\, and miss our community in these winter months. Since we want 
 2026 to be our best year ever\, we decided to plan this event to stay conn
 ected and start planning ahead for our 2026 season!\nAt the event\, we wil
 l be distributing "kits" of seeds\, soil\, trays and domes for winter sowi
 ng\, and will offer tips on cold stratification and successful sowing for 
 everyone! Bring a milk jug if you would like to try it out.\nThis is a fre
 e event and all are welcome. Free kits will be distributed to folks who wa
 nt to try their luck at Winter sowing and ideally\, share some of the boun
 ty with the broader group at our spring plant swaps (first come first serv
 e basis).\nThere will be enough seeds for everyone thanks to our generous 
 contributors at Burpees and True Leaf Market!
ATTACH;FMTTYPE=image/jpeg:https://kingstonhappenings.org/wp-content/upload
 s/2026/01/603093032_10164285355908221_8500461906061601190_n.jpg
CATEGORIES:@Featured,@Newsletter,Community,Educational classes and
 lectures
LOCATION:Kingston Library\, 61 Crown St\, Kingston\, NY\, 12401\, United St
 ates
GEO:41.934381;-74.021982
X-APPLE-STRUCTURED-LOCATION;VALUE=URI;X-ADDRESS=61 Crown St\, Kingston\, NY
 \, 12401\, United States;X-APPLE-RADIUS=100;X-TITLE=Kingston Library:geo:4
 1.934381,-74.021982
END:VEVENT
BEGIN:VTIMEZONE
TZID:America/New_York
X-LIC-LOCATION:America/New_York
BEGIN:STANDARD
DTSTART:20251102T010000
TZOFFSETFROM:-0400
TZOFFSETTO:-0500
TZNAME:EST
END:STANDARD
END:VTIMEZONE
END:VCALENDAR