BEGIN:VCALENDAR
VERSION:2.0
PRODID:-//wp-events-plugin.com//7.2.3.1//EN
TZID:America/New_York
X-WR-TIMEZONE:America/New_York
BEGIN:VEVENT
UID:153146@kingstonhappenings.org
DTSTART;TZID=America/New_York:20251221T170000
DTEND;TZID=America/New_York:20251221T170000
DTSTAMP:20251216T143617Z
URL:https://kingstonhappenings.org/events/winter-skating-showcase/
SUMMARY:Winter Skating Showcase
DESCRIPTION:The Skating Club of Saugerties is excited to present a skating 
 exhibition on Sunday\, December 21st at 5pm. The Winter Showcase features 
 soloists\, duets\, and groups for our learn to skate classes. The show wil
 l feature music from The Nutcracker! Join us to celebrate the hard work of
  our skaters!!\nCost: $5\, Children 12 &amp\; under are free
ATTACH;FMTTYPE=image/jpeg:https://kingstonhappenings.org/wp-content/upload
 s/2025/12/594504473_1460324675429605_6578382523410313191_n.jpg
CATEGORIES:@Featured,@Newsletter,Music,Nightlife and entertainment
LOCATION:Saugerties\, NY\, 1 Main St\, Saugerties\, NY\, 12401\, United Sta
 tes
GEO:42.080915;-73.944363
X-APPLE-STRUCTURED-LOCATION;VALUE=URI;X-ADDRESS=1 Main St\, Saugerties\, NY
 \, 12401\, United States;X-APPLE-RADIUS=100;X-TITLE=Saugerties\, NY:geo:42
 .080915,-73.944363
END:VEVENT
BEGIN:VTIMEZONE
TZID:America/New_York
X-LIC-LOCATION:America/New_York
BEGIN:STANDARD
DTSTART:20251102T010000
TZOFFSETFROM:-0400
TZOFFSETTO:-0500
TZNAME:EST
END:STANDARD
END:VTIMEZONE
END:VCALENDAR