BEGIN:VCALENDAR
VERSION:2.0
PRODID:-//wp-events-plugin.com//7.2.3.1//EN
TZID:America/New_York
X-WR-TIMEZONE:America/New_York
BEGIN:VEVENT
UID:153296@kingstonhappenings.org
DTSTART;TZID=America/New_York:20260213T180000
DTEND;TZID=America/New_York:20260216T110000
DTSTAMP:20251224T213029Z
URL:https://kingstonhappenings.org/events/winter-retreat-creating-a-meanin
 gful-third-act-reclaiming-your-authenticity-wisdom-joy/
SUMMARY:Winter Retreat - Creating a Meaningful Third Act: Reclaiming Your A
 uthenticity\, Wisdom &amp\; Joy
DESCRIPTION:Midlife is a powerful time of transition and possibility. This 
 in-person retreat invites women in midlife and beyond to slow down\, refle
 ct\, and intentionally shape what comes next. Guided by experienced psycho
 therapists\, participants will engage in meditation\, journaling\, and mea
 ningful group dialogue to gain clarity\, cultivate self-compassion\, and r
 econnect with what feels most authentic and nourishing in this next chapte
 r of life.
ATTACH;FMTTYPE=image/jpeg:https://kingstonhappenings.org/wp-content/upload
 s/2025/12/third-act-photo.png
CATEGORIES:@Featured,Community,Educational classes and lectures,For
 seniors
LOCATION:Hutton Brickyards\, 200 North Street\, Kingston\, New York\, 12401
 \, United States
GEO:41.93624;-73.96704399999999
X-APPLE-STRUCTURED-LOCATION;VALUE=URI;X-ADDRESS=200 North Street\, Kingston
 \, New York\, 12401\, United States;X-APPLE-RADIUS=100;X-TITLE=Hutton Bric
 kyards:geo:41.93624,-73.96704399999999
END:VEVENT
BEGIN:VTIMEZONE
TZID:America/New_York
X-LIC-LOCATION:America/New_York
BEGIN:STANDARD
DTSTART:20251102T010000
TZOFFSETFROM:-0400
TZOFFSETTO:-0500
TZNAME:EST
END:STANDARD
END:VTIMEZONE
END:VCALENDAR