BEGIN:VCALENDAR
VERSION:2.0
PRODID:-//wp-events-plugin.com//7.2.3.1//EN
TZID:America/New_York
X-WR-TIMEZONE:America/New_York
BEGIN:VEVENT
UID:151983@kingstonhappenings.org
DTSTART;TZID=America/New_York:20251004T160000
DTEND;TZID=America/New_York:20251004T190000
DTSTAMP:20250921T132741Z
URL:https://kingstonhappenings.org/events/wine-tasting-fundraiser/
SUMMARY:Wine Tasting Fundraiser
DESCRIPTION:\nThe Historical Society of Woodstock is pleased to announce a 
 Wine Tasting Fundraiser for our new Research and Archives Building on Satu
 rday\, October 4 from 4:00 to 7:00 PM at the Historical Society’s Eames 
 House\, 20 Comeau Drive in Woodstock\, NY. Admission is $65 advance sale a
 nd $75 at the door. All proceeds benefit the Historical Society of Woodsto
 ck. The tasting will feature a selection of wines curated and presented by
  wine professional Nathaniel Livings-Miller. There will also be music by c
 ellist Abby Newton and pianist Selma Kaplan. For further information email
  info@historicalsocietyofwoodstock.org.\n\n\n\n\n\n
ATTACH;FMTTYPE=image/jpeg:https://kingstonhappenings.org/wp-content/upload
 s/2025/09/LilyGeltman.jpg
CATEGORIES:@Featured,History
LOCATION:Historical Society of Woodstock\, 20 Comeau Drive\, Woodstock\, ny
 \, United States
GEO:42.039163;-74.124058
X-APPLE-STRUCTURED-LOCATION;VALUE=URI;X-ADDRESS=20 Comeau Drive\, Woodstock
 \, ny\, United States;X-APPLE-RADIUS=100;X-TITLE=Historical Society of Woo
 dstock:geo:42.039163,-74.124058
END:VEVENT
BEGIN:VTIMEZONE
TZID:America/New_York
X-LIC-LOCATION:America/New_York
BEGIN:DAYLIGHT
DTSTART:20250309T030000
TZOFFSETFROM:-0500
TZOFFSETTO:-0400
TZNAME:EDT
END:DAYLIGHT
END:VTIMEZONE
END:VCALENDAR