BEGIN:VCALENDAR
VERSION:2.0
PRODID:-//wp-events-plugin.com//7.2.3.1//EN
TZID:America/New_York
X-WR-TIMEZONE:America/New_York
BEGIN:VEVENT
UID:156111@kingstonhappenings.org
DTSTART;TZID=America/New_York:20260407T200000
DTEND;TZID=America/New_York:20260407T200000
DTSTAMP:20260406T230056Z
URL:https://kingstonhappenings.org/events/whitney-assembly/
SUMMARY:WHITNEY @ Assembly
DESCRIPTION:Whitney return to the road in 2026 with a North American tour c
 elebrating their forthcoming fourth studio album Small Talk (out November 
 7\, 2025). Formed in Chicago in 2015 by Julien Ehrlich and Max Kakacek\, t
 he band has earned a devoted following for their soulful blend of tender m
 elancholy and radiant warmth.\nTheir debut Light Upon the Lake introduced 
 Whitney with the beloved single “No Woman\,” earning Pitchfork’s cov
 eted Best New Music designation and praise for its “near flawless… low
 -key perfectionism.” Nearly a decade later\, the band continues to evolv
 e while preserving the intimacy and spirit that made them so cherished fro
 m the start.\nOn this run\, Whitney will share new songs from Small Talk a
 longside fan favorites\, bringing their signature mix of laid-back charm a
 nd intricate musicianship to stages across the US and Canada\, with stops 
 in Los Angeles\, Brooklyn\, Toronto\, Montreal\, and more.\n“If you’ve
  ever seen Whitney live\, you already know what a treasure their performan
 ces are. The Chicago-based outfit\, led by the effortlessly cool Julien Eh
 rlich and Max Kakacek\, has a gift for crafting songs that feel both timel
 ess and deeply personal - sunny yet melancholic\, tender yet bold.” - We
  Write About Music\n\n&nbsp\;\n\nAdvance: $32 +fees / Day of: $37 +fees
ATTACH;FMTTYPE=image/jpeg:https://kingstonhappenings.org/wp-content/upload
 s/2026/04/a5aa43d7-fc78-41a4-945c-506bdb22a014.jpg
CATEGORIES:@Featured,@Newsletter,Music,Nightlife and entertainment
LOCATION:Assembly\, 236 Wall St. 3rd Floor\, KINGSTON\, NY\, 12401\, United
  States
GEO:41.931738;-74.018648
X-APPLE-STRUCTURED-LOCATION;VALUE=URI;X-ADDRESS=236 Wall St. 3rd Floor\, KI
 NGSTON\, NY\, 12401\, United States;X-APPLE-RADIUS=100;X-TITLE=Assembly:ge
 o:41.931738,-74.018648
END:VEVENT
BEGIN:VTIMEZONE
TZID:America/New_York
X-LIC-LOCATION:America/New_York
BEGIN:DAYLIGHT
DTSTART:20260308T030000
TZOFFSETFROM:-0500
TZOFFSETTO:-0400
TZNAME:EDT
END:DAYLIGHT
END:VTIMEZONE
END:VCALENDAR