BEGIN:VCALENDAR
VERSION:2.0
PRODID:-//wp-events-plugin.com//7.2.3.1//EN
TZID:America/New_York
X-WR-TIMEZONE:America/New_York
BEGIN:VEVENT
UID:156251@kingstonhappenings.org
DTSTART;TZID=America/New_York:20260426T183000
DTEND;TZID=America/New_York:20260426T213000
DTSTAMP:20260414T003009Z
URL:https://kingstonhappenings.org/events/white-noise-open-mic-and-feature
 d-performance-event-2/
SUMMARY:White Noise Open Mic and Featured Performance Event
DESCRIPTION:Join us for our next open mic and featured performance event!\n
 \nLive on Sunday\, April 26\, 7pm at Green Kill!\n\nOur featured performer
  for April is Gary Dale Burns:\nGary Dale Burns (August Janson/G.E. Jarvis
 ) was born in 1985 in Provo\, Utah\, in a birthing center across from BYU.
  His work has been previously published in Antiphony\, Sanctuary\, and Cæ
 sura. He currently resides in the town of Poughkeepsie\, New York\, and te
 aches in the Hudson Valley. He runs a Substack newsletter at garydaleburns
 .substack.com as well as a small esoterica/occult bookstore on Etsy at the
 lastmysteries.etsy.com.\n\nSign up for the open mic begins at 6:30\, and o
 ur capacity is 30 attendees.\n\nEntrance is free\, but donations are great
 ly appreciated. All donations go towards the funding of future events and 
 our featured performer. First come first serve!\n\nWhite Noise is a series
  of open mics created for artistic expression of all forms and welcomes pe
 rformers of all kinds! We work to create and hold a space for creativity\,
  and can accommodate any and all projects of the imagination.\n\nEmail us 
 with any questions at whitenoisegk@gmail.com or stop by our next event!
ATTACH;FMTTYPE=image/jpeg:https://kingstonhappenings.org/wp-content/upload
 s/2026/04/0C5DE60A-957D-496C-96CA-68EE2814DD2E.jpg
CATEGORIES:@Featured,Art,Comedy,Community,Music
LOCATION:Green Kill\, 229 Greenkill ave\, Kingston\, New York\, 12401\, Uni
 ted States
GEO:41.92496999999999;-74.0121939
X-APPLE-STRUCTURED-LOCATION;VALUE=URI;X-ADDRESS=229 Greenkill ave\, Kingsto
 n\, New York\, 12401\, United States;X-APPLE-RADIUS=100;X-TITLE=Green Kill
 :geo:41.92496999999999,-74.0121939
END:VEVENT
BEGIN:VTIMEZONE
TZID:America/New_York
X-LIC-LOCATION:America/New_York
BEGIN:DAYLIGHT
DTSTART:20260308T030000
TZOFFSETFROM:-0500
TZOFFSETTO:-0400
TZNAME:EDT
END:DAYLIGHT
END:VTIMEZONE
END:VCALENDAR