BEGIN:VCALENDAR
VERSION:2.0
PRODID:-//wp-events-plugin.com//7.2.3.1//EN
TZID:America/New_York
X-WR-TIMEZONE:America/New_York
BEGIN:VEVENT
UID:156078@kingstonhappenings.org
DTSTART;TZID=America/New_York:20260411T170000
DTEND;TZID=America/New_York:20260411T193000
DTSTAMP:20260406T230103Z
URL:https://kingstonhappenings.org/events/whfds-pasta-dinner-guest-chef-ri
 c-orlando/
SUMMARY:WHFD's Pasta Dinner (Guest Chef Ric Orlando)
DESCRIPTION:WHFD's PASTA DINNER - Saturday\, April 11th! Dine in or take ou
 t from 5:00-7:30pm at the West Hurley Fire House\, 24 Wall Street\, West H
 urley. The menu planned will be absolutely delicious with guest Chef Ric O
 rlando cooking in our kitchen! This event is not to be missed! The meal in
 cludes fresh mixed greens salad\, bread\, pasta with choice of sauce (meat
  sauce and meatballs\, plain tomato sauce\, or Ric's well known eggplant b
 alls)\, choice of dessert\, and beverage. We hope to see you there!
ATTACH;FMTTYPE=image/jpeg:https://kingstonhappenings.org/wp-content/upload
 s/2026/03/1000031357.jpg
CATEGORIES:@Featured,@Newsletter,Community
LOCATION:West Hurley Fire Dept.\, 24 Wall St.\, West Hurley\, NY\, United S
 tates
GEO:41.998279;-74.100092
X-APPLE-STRUCTURED-LOCATION;VALUE=URI;X-ADDRESS=24 Wall St.\, West Hurley\,
  NY\, United States;X-APPLE-RADIUS=100;X-TITLE=West Hurley Fire Dept.:geo:
 41.998279,-74.100092
END:VEVENT
BEGIN:VTIMEZONE
TZID:America/New_York
X-LIC-LOCATION:America/New_York
BEGIN:DAYLIGHT
DTSTART:20260308T030000
TZOFFSETFROM:-0500
TZOFFSETTO:-0400
TZNAME:EDT
END:DAYLIGHT
END:VTIMEZONE
END:VCALENDAR