BEGIN:VCALENDAR
VERSION:2.0
PRODID:-//wp-events-plugin.com//7.2.3.1//EN
TZID:America/New_York
X-WR-TIMEZONE:America/New_York
BEGIN:VEVENT
UID:154952@kingstonhappenings.org
DTSTART;TZID=America/New_York:20260207T100000
DTEND;TZID=America/New_York:20260207T190000
DTSTAMP:20260202T180950Z
URL:https://kingstonhappenings.org/events/wellness-at-wildheart-2026-02-07
 /
SUMMARY:Wellness at WildHeart
DESCRIPTION:Three skilled practitioners will be offering a variety of sessi
 ons for you to choose from throughout the weekend. Whether you’re lookin
 g to connect more deeply with your body\, recenter your mind\, release bui
 lt-up tension\, restore safety within your nervous system\, or find a sens
 e of inner clarity\, our practitioners each bring their own unique experti
 se in facilitation and guidance.\nYou’re welcome to book with one practi
 tioner or multiple practitioners.\nEach practitioner is offering one 25% d
 iscounted spot for BIPOC folx.\n------------------------------------------
 ----------------Somatic Osteopathy with Maria Bacha\nMaria Bacha is an os
 teopath and somatic therapist offering integrative\, hands-on care for peo
 ple and families navigating complex pain\, trauma\, or seasons of change. 
 People come to Maria when something in their body or life won’t quite se
 ttle or move forward. Pain that keeps returning. Tension that doesn’t fu
 lly release. Fatigue that makes everything harder. Emotional overwhelm. Re
 peating patterns of injury\, illness\, or loss.\nMany who seek this work a
 lready have experience with therapy\, bodywork\, movement\, meditation\, o
 r medical care. They value collaboration and nuance\, and are drawn to hol
 istic support that can be with both physical and emotional experience toge
 ther.\n\nSESSION TIMES (90 minutes each):\n\nSunday\, February 812:00 pm2:
 00 pm4:00 pm\n\n----------------------------------------------------------
 Moving Towards Safety with Nikita Patel\nCo-created experiences of safety
  utilizing movement\, touch\, voice and mind to help bring presence and aw
 areness to what is alive in the body in any given moment. In this context\
 , thinking of safety as the foundation for curiosity to explore\, try\, fa
 il and learn – in all aspects of life. The session might unfold as a yog
 a class\, a somatic movement exploration\, talking and feeling into our bo
 dies or all of the above.\n\nSESSION TIMES (90 minutes each):\nSaturday\, 
 February 710 am – 11:30 am12 pm – 1:30 pm5:30 pm – 7 pm\n\nSunday\, 
 February 810 am – 11:30 am12 pm – 1:30 pm2 pm – 3:30 pm\n\n---------
 -------------------------------------------------Somatic Therapy with Lil
 lian Kemanis\n\nSomatic Therapy is an invitation to reconnect with the wis
 dom of your living body through feeling\, sensation\, and embodied imagina
 tion. In these sessions\, we create safety within the nervous system so yo
 u can expand your capacity to live fully. These sessions offer a soft plac
 e to land—where you’re guided inward to sense\, feel\, and open the su
 bconscious terrain that shapes your inner world.\nSessions are a blend of 
 verbal and non-verbal processing\, beginning with dialogue and unfolding i
 nto guided inquiry\, sensation-based exploration\, and tools you can carry
  into daily life. Clients often leave feeling clearer\, more connected to 
 themselves\, and renewed in vitality\, creativity\, and intuition. Lillian
 ’s approach is co-creative\, intuitive\, and infused with spaciousness\,
  playfulness\, and presence—holding room for emergence and meaningful tr
 ansformation.\n\nSESSION TIMES (60 minutes each)\nSaturday\, February 710 
 am-11 am11:15 am-12:15 pm12:30 pm -1:30 pm\n\nSunday\, February 810 am-11 
 am11:15 am -12:15 pm12:30 pm - 1:30 pm
ATTACH;FMTTYPE=image/jpeg:https://kingstonhappenings.org/wp-content/upload
 s/2026/01/Edit-Event-Wellness-at-WildHeart-‹-WildHeart-—-WordPress-and
 -79-more-pages-Personal-Microsoft​-Edge-12_4_2025-5_46_13-AM-2.png
CATEGORIES:@Featured,@Newsletter,Community,Health, fitness, yoga, martial
 arts and other classes
LOCATION:WildHeart: Center for Performance and Embodiment Practice\, 183 Ea
 st Road\, Wallkill\, NY\, 12589\, United States
GEO:41.588939;-74.05362
X-APPLE-STRUCTURED-LOCATION;VALUE=URI;X-ADDRESS=183 East Road\, Wallkill\, 
 NY\, 12589\, United States;X-APPLE-RADIUS=100;X-TITLE=WildHeart: Center fo
 r Performance and Embodiment Practice:geo:41.588939,-74.05362
END:VEVENT
BEGIN:VTIMEZONE
TZID:America/New_York
X-LIC-LOCATION:America/New_York
BEGIN:STANDARD
DTSTART:20251102T010000
TZOFFSETFROM:-0400
TZOFFSETTO:-0500
TZNAME:EST
END:STANDARD
END:VTIMEZONE
END:VCALENDAR