BEGIN:VCALENDAR
VERSION:2.0
PRODID:-//wp-events-plugin.com//7.2.3.1//EN
TZID:America/New_York
X-WR-TIMEZONE:America/New_York
BEGIN:VEVENT
UID:151993@kingstonhappenings.org
DTSTART;TZID=America/New_York:20250927T170000
DTEND;TZID=America/New_York:20250927T210000
DTSTAMP:20250922T145213Z
URL:https://kingstonhappenings.org/events/weird-music-night-2/
SUMMARY:Weird Music Night
DESCRIPTION:ArtPort Kingston presents Weird Music Night on Saturday\, Septe
 mber 27\, 5–9 PM in the ArtYard. The evening will feature performances b
 y SPYRODON\, SKULLTOWER 4E\, PERVERT SAVANT\, A.I. PACINO\, and others. Au
 diences can expect live sound\, video projections\, animations\, performan
 ce\, absurdist commentary\, and even one boring poem. \n\n&nbsp\;\n\nArtP
 ort’s ArtYard will be transformed into a playground for the ears and eye
 s\, continuing the Weird Music Night tradition of bringing experimental mu
 sic and interdisciplinary performance to unexpected spaces and is curated 
 by artist John O’Donnell.\n\nHISTORY OF WEIRD MUSIC NIGHT\n Weird Music 
 Night began in 2024 as a one-time gathering of musicians and artists explo
 ring experimental sound at the Ely Center of Contemporary Art in New Haven
 \, Connecticut. Its success led to continued monthly programming and subse
 quent events in New York\, Miami\, and at SXSW in Austin. In 2025\, the se
 ries has evolved into an international event\, with its first European pro
 gram scheduled for Rome\, Italy. Over time\, Weird Music Night has establi
 shed itself as a platform bridging experimental music\, performance art\, 
 and visual culture.\n\n&nbsp\;\n\nMISSION STATEMENT\n Weird Music Night is
  committed to presenting sound-based practices and interdisciplinary perfo
 rmance in contexts that encourage experimentation and critical engagement.
  The series provides a space for musicians\, artists\, and audiences to en
 counter unconventional forms of expression\, emphasizing process\, collabo
 ration\, and the productive instability of live performance.\n\n&nbsp\;\n\
 nPERFORMERS\n\nANDREI JAY\nRIC ROYER\nM0.iré\nSPYRODON\nSKULLTOWER 4E\nPE
 RVERT SAVANT\nA.I. PACINO\n\n&nbsp\;\n\nPERFORMERS BIOGRAPHIES\n\nANDREI J
 AY is a video artist and “video wizard” whose practice spans live visu
 als\, electronic image processing\, and experimental animation\, creating 
 immersive environments for sound and performance.\nhttps://andreijaycreati
 vecoding.com/\nwww.instagram.com/andrei_jay_video_wizard\n\n\nRIC ROYER is
  a writer and performer whose work combines poetry\, sound\, and absurdist
  theater\, often blurring the line between lecture\, performance\, and rit
 ual.\n\nhttps://www.instagram.com/ricroyer/\n\n&nbsp\;\n\nM0.iré (MOWÄR)
  is the alter ego of Egyptian American fine artist\, Mo Darwish. His curre
 nt creative practice centers on sound art\, video and music installations\
 , and media-based performances. M0.iré merges musical influences\, rangin
 g from ambient\, progressive rock/metal\, and jazz fusion\, with his fine 
 art background to create immersive multimedia experiences that combines li
 ve projections\, sound art\, video installations\, and live music into a u
 nified artistic expression.\nhttps://www.mostafadarwishart.com/\n\nwww.ins
 tagram.com/momo.d.art\n\n&nbsp\;\n\nSPYRODON is an experimental sound-and-
 visual art duo formed by Alex Theodoropulos and Tara Foley\, known for the
 ir rhythmically dynamic instrumentation\, interplay of raw vocals\, and se
 lf-produced self-animated music videos and visual content.\nhttps://www.sp
 yrodon.com/\n\nwww.instagram.com/spyrodonmusic\n\n&nbsp\;\n\nSKULLTOWER 4E
  is an experimental sound collaboration using violin\, guitar\, circuit-be
 nt toys\, and analog tape loops to create improvised compositions that mer
 ge noise\, texture\, and melody.\n\nhttps://skulltower4e.bandcamp.com/\n\n
 &nbsp\;\n\nPERVERT SAVANT is a performance-driven music project that combi
 nes experimental sound\, absurdist persona\, and theatrical spectacle to i
 nterrogate desire\, identity\, and excess.\n\nhttps://www.johnodonnellproj
 ects.com/\n\n&nbsp\;\n\nA.I. PACINO is a performance and music project tha
 t blends satire\, costume\, and experimental sound to explore simulation\,
  celebrity\, and digital identity\, now marking the release of its debut a
 lbum.\nhttps://open.spotify.com/artist/2gv28uJ2dot9vcp8rUSMPr\n\n&nbsp\;
ATTACH;FMTTYPE=image/jpeg:https://kingstonhappenings.org/wp-content/upload
 s/2025/09/548178795_1196048105879422_6224267326330250836_n.jpg
CATEGORIES:@Featured,@Newsletter,Music,Nightlife and entertainment
LOCATION:Artport\, 80 Smith Ave.\, Kingston\, NY\, 12401\, United States
GEO:41.92025;-73.978706
X-APPLE-STRUCTURED-LOCATION;VALUE=URI;X-ADDRESS=80 Smith Ave.\, Kingston\, 
 NY\, 12401\, United States;X-APPLE-RADIUS=100;X-TITLE=Artport:geo:41.92025
 ,-73.978706
END:VEVENT
BEGIN:VTIMEZONE
TZID:America/New_York
X-LIC-LOCATION:America/New_York
BEGIN:DAYLIGHT
DTSTART:20250309T030000
TZOFFSETFROM:-0500
TZOFFSETTO:-0400
TZNAME:EDT
END:DAYLIGHT
END:VTIMEZONE
END:VCALENDAR