BEGIN:VCALENDAR
VERSION:2.0
PRODID:-//wp-events-plugin.com//7.2.3.1//EN
TZID:America/New_York
X-WR-TIMEZONE:America/New_York
BEGIN:VEVENT
UID:155048@kingstonhappenings.org
DTSTART;TZID=America/New_York:20260131T110000
DTEND;TZID=America/New_York:20260531T143000
DTSTAMP:20260131T015141Z
URL:https://kingstonhappenings.org/events/weekend-brunch-at-edgewood-resta
 urant-bar/
SUMMARY:Weekend Brunch at Edgewood Restaurant + Bar
DESCRIPTION:Join us for Weekend Brunch at Edgewood Restaurant + Bar!\nEleva
 te your weekend with brunch at Edgewood Restaurant and Bar. Classic dishes
  rooted in French technique and local flavors\, all within the charm of a 
 restored 19th-century mansion in the heart of the Hudson Valley.\n\nEnjoy 
 a la carte menu options\, coffee\, tea\, and add bottomless bubbles for an
  additional $30 per person to enjoy your choice of mimosas\, bellinis\, or
  bloody marys!\n\n&nbsp\;\n\nAvailable from 11 AM - 2:30 PM every Saturday
  and Sunday. See you there!\n\n&nbsp\;\n\nReservations encouraged but not 
 required. \n\n&nbsp\;\n\nVisit our two seasonal restaurants at Hutton Bri
 ckyards. Edgewood open November-April. River Pavilion open for the season
  Spring 2026!
ATTACH;FMTTYPE=image/jpeg:https://kingstonhappenings.org/wp-content/upload
 s/2026/01/hutton-brickyards-30-copy.jpg
CATEGORIES:Restaurant promotions
LOCATION:EDGEWOOD RESTAURANT & BAR\, 132 Lindsey Ave\, KINGSTON\, NY\, 1240
 1\, United States
GEO:41.93003;-73.973736
X-APPLE-STRUCTURED-LOCATION;VALUE=URI;X-ADDRESS=132 Lindsey Ave\, KINGSTON\
 , NY\, 12401\, United States;X-APPLE-RADIUS=100;X-TITLE=EDGEWOOD RESTAURAN
 T & BAR:geo:41.93003,-73.973736
END:VEVENT
BEGIN:VTIMEZONE
TZID:America/New_York
X-LIC-LOCATION:America/New_York
BEGIN:STANDARD
DTSTART:20251102T010000
TZOFFSETFROM:-0400
TZOFFSETTO:-0500
TZNAME:EST
END:STANDARD
BEGIN:DAYLIGHT
DTSTART:20260308T030000
TZOFFSETFROM:-0500
TZOFFSETTO:-0400
TZNAME:EDT
END:DAYLIGHT
END:VTIMEZONE
END:VCALENDAR