BEGIN:VCALENDAR
VERSION:2.0
PRODID:-//wp-events-plugin.com//7.2.3.1//EN
TZID:America/New_York
X-WR-TIMEZONE:America/New_York
BEGIN:VEVENT
UID:156034@kingstonhappenings.org
DTSTART;TZID=America/New_York:20260327T173000
DTEND;TZID=America/New_York:20260327T193000
DTSTAMP:20260330T133754Z
URL:https://kingstonhappenings.org/events/watercolor-paint-and-sip/
SUMMARY:Watercolor Paint and Sip
DESCRIPTION:You will create a colorful watercolor painting led by Hudson Va
 lley Atelier instructor Carlise Azmitia.\nCome with friends or on your o
 wn and nourish your creativity! This paint and sip will last approximately
  ninety minutes to two hours.\n'Welcome Spring' with a vintage flower enve
 lope painting. Students will learn loose brush strokes\, wet on wet\, wet 
 on dry and color mixing.\nEvent fee: $50 includes instruction in a small g
 roup setting\, supplies and your choice of one alcoholic or non-alcoholic 
 beverage. At YFK we offer wine\, local beer and hard cider\, fresh brewed 
 artisanal tea and sodas.\nMinimum 2 people to confirm the event\, maximum 
 of 12 students total. If we don’t reach the minimum of two attendees by 
 3 days before the date of the event we’ll refund your purchase in full. 
 Read and understand our Class Policies here.\n&nbsp\;\n\nRegister Now
ATTACH;FMTTYPE=image/jpeg:https://kingstonhappenings.org/wp-content/upload
 s/2026/03/paint-and-sip-march-2026.jpg
CATEGORIES:@Featured,@Newsletter,Art,Educational classes and
 lectures,Happy Hours
LOCATION:Yarn Farm Kingston\, 21 W. Strand\, KINGSTON\, NY\, 12401\, United
  States
GEO:41.918078;-73.983623
X-APPLE-STRUCTURED-LOCATION;VALUE=URI;X-ADDRESS=21 W. Strand\, KINGSTON\, N
 Y\, 12401\, United States;X-APPLE-RADIUS=100;X-TITLE=Yarn Farm Kingston:ge
 o:41.918078,-73.983623
END:VEVENT
BEGIN:VTIMEZONE
TZID:America/New_York
X-LIC-LOCATION:America/New_York
BEGIN:DAYLIGHT
DTSTART:20260308T030000
TZOFFSETFROM:-0500
TZOFFSETTO:-0400
TZNAME:EDT
END:DAYLIGHT
END:VTIMEZONE
END:VCALENDAR