BEGIN:VCALENDAR
VERSION:2.0
PRODID:-//wp-events-plugin.com//7.2.3.1//EN
TZID:America/New_York
X-WR-TIMEZONE:America/New_York
BEGIN:VEVENT
UID:154700@kingstonhappenings.org
DTSTART;TZID=America/New_York:20260124T160000
DTEND;TZID=America/New_York:20260124T200000
DTSTAMP:20260107T135320Z
URL:https://kingstonhappenings.org/events/wanted-the-good-the-bad-the-mech
 anical-bull/
SUMMARY:WANTED : The Good\, The Bad & The Mechanical Bull
DESCRIPTION:West Park is Going West!! \nMechanical Bull Riding 4-8PMWestern
  Food Specials from our top-notch chefsWestern Vinyl by the one-and-only H
 arlan Levine. Tasty house-made beverages. Dress-up is encouraged!!\nOpen 1
 -8Bull Riding 4-8DJ Harlan Spins Vinyl 5-8\n\n\nMore details to come \n\n&
 nbsp\;\n\n\nPLEASE NOTE : Our normal menu is not available for the month o
 f January!\n\n\nStay tuned on our latest offerings by following @rmv_cella
 rs &amp\;@greatlifebrewingatrmv  &amp\;  joining our mailing list here!\
 n\nDog-friendly. Family friendly.\n\n\n
ATTACH;FMTTYPE=image/jpeg:https://kingstonhappenings.org/wp-content/upload
 s/2026/01/WANTED-Kingston-Happenings.png
CATEGORIES:@Featured,@Newsletter,Restaurant promotions
LOCATION:RMV Cellars\, 112 Burroughs Drive\, Esopus\, NY\, 12401\, United S
 tates
GEO:41.783753;-73.962551
X-APPLE-STRUCTURED-LOCATION;VALUE=URI;X-ADDRESS=112 Burroughs Drive\, Esopu
 s\, NY\, 12401\, United States;X-APPLE-RADIUS=100;X-TITLE=RMV Cellars:geo:
 41.783753,-73.962551
END:VEVENT
BEGIN:VTIMEZONE
TZID:America/New_York
X-LIC-LOCATION:America/New_York
BEGIN:STANDARD
DTSTART:20251102T010000
TZOFFSETFROM:-0400
TZOFFSETTO:-0500
TZNAME:EST
END:STANDARD
END:VTIMEZONE
END:VCALENDAR