BEGIN:VCALENDAR
VERSION:2.0
PRODID:-//wp-events-plugin.com//7.2.3.1//EN
TZID:America/New_York
X-WR-TIMEZONE:America/New_York
BEGIN:VEVENT
UID:156406@kingstonhappenings.org
DTSTART;TZID=America/New_York:20260424T193000
DTEND;TZID=America/New_York:20260424T210000
DTSTAMP:20260420T164327Z
URL:https://kingstonhappenings.org/events/walkway-at-night-2/
SUMMARY:Walkway at Night
DESCRIPTION:Experience Walkway Over the Hudson like never before at Walkway
  at Night\, when the sun sets and the Hudson Valley begins to glow. From 2
 12 feet above the river\, take in breathtaking views as the moon rises ove
 rhead and the lights of Poughkeepsie and Highland shimmer in the distance.
  There’s truly nothing like a twilight stroll across the World’s Longe
 st Elevated Pedestrian Bridge.\nWeather permitting\, our friends from the 
 Mid-Hudson Astronomical Association will join us on the bridge with telesc
 opes\, offering a closer look at the night sky and the celestial wonders a
 bove.\nWalkway members attend free. Non-members may purchase tickets for $
 5 in advance or at the gate. Children 12 and under are free. Pre-registrat
 ion is encouraged to shorten your wait at the gate.\nReserve your ticket f
 or entry at walkwayatnight.givesmart.com.\nFriends of the Walkway is a no
 nprofit partner of New York State Parks. All proceeds and additional donat
 ions from Walkway At Night directly support our mission to connect communi
 ties and enhance the Walkway experience for all through engaging programs\
 , special events\, and ongoing improvements.\nWalkway members have been em
 ailed a special discount code to use upon registration providing one compl
 imentary admission to Individual members\, and up to four complimentary ad
 missions for Household members.\nTo become a Walkway member and receive yo
 ur discount code\, visit join.walkway.org. All proceeds and additional d
 onations support the Friends of the Walkway and our mission to host commun
 ity events like Walkway at Night\, add amenities to the park\, undertake c
 apital construction projects\, support the volunteer Ambassadors\, and muc
 h more.\nQuestions? Email walkway@walkway.org.
ATTACH;FMTTYPE=image/jpeg:https://kingstonhappenings.org/wp-content/upload
 s/2026/04/669999745_1376891137809230_3693005973835000655_n.jpg
CATEGORIES:@Featured,@Newsletter,Community,Nightlife and
 entertainment,Sports and recreation
LOCATION:Walkway Over the Hudson\, 87 Haviland Rd.\, Highland \, New York\,
  12528\, United States
GEO:41.710477;-73.95506
X-APPLE-STRUCTURED-LOCATION;VALUE=URI;X-ADDRESS=87 Haviland Rd.\, Highland 
 \, New York\, 12528\, United States;X-APPLE-RADIUS=100;X-TITLE=Walkway Ove
 r the Hudson:geo:41.710477,-73.95506
END:VEVENT
BEGIN:VTIMEZONE
TZID:America/New_York
X-LIC-LOCATION:America/New_York
BEGIN:DAYLIGHT
DTSTART:20260308T030000
TZOFFSETFROM:-0500
TZOFFSETTO:-0400
TZNAME:EDT
END:DAYLIGHT
END:VTIMEZONE
END:VCALENDAR