BEGIN:VCALENDAR
VERSION:2.0
PRODID:-//wp-events-plugin.com//7.2.3.1//EN
TZID:America/New_York
X-WR-TIMEZONE:America/New_York
BEGIN:VEVENT
UID:152807@kingstonhappenings.org
DTSTART;TZID=America/New_York:20251130T100000
DTEND;TZID=America/New_York:20251130T160000
DTSTAMP:20251124T135248Z
URL:https://kingstonhappenings.org/events/walk-over-the-hudson/
SUMMARY:Walk Over the Hudson
DESCRIPTION:This is a nice\, flat\, paved trail over a long bridge with gre
 at views of the Hudson River.Dogs are allowed on leashes.\nHouse keeping d
 etails:\nGear: Ankle-high waterproof hiking boots\,Poles\, Hiking pants\, 
 Moisture wicking layers\, Rain\\windproof jacket\, gloves\,�Fuel: 3 ltr 
 hydration(including electrolytes)\,\nLunch\, Snacks\, energy bars\nPhysica
 l Fitness Confirmation:�Your participation in this hike assumes that you
  are physically fit to take part in the event. This is to ensure that part
 icipants are aware of the physical demands of the activity and are respons
 ible for their own health and well-being.\n\n\nEasyWalkway Over the Hudson
  State Historic Park\n3.2 Miles\n495 FT Elevation Gain\n1.5-2 hr Est Time\
 nOut &amp\; back\n\n\n\n\nCLOUD WALKER LEGAL DISCLAIMER AND WAIVER OF LIAB
 ILITY:You agree when you sign up for this group or any of the events that 
 you have read and understood the following below:\nIf you join us for a hi
 ke (or any other event)\, please understand that you are responsible for y
 our own preparedness and well-being and will hold no one else liable in ca
 se of injury or mishap. You agree not to hold the Organizer\, Assistant Or
 ganizers\, or any other members responsible for any injuries\, mishaps\, o
 r any other situation that may happen at a planned event.\nYou are respons
 ible to research the event\, knowing the area\, and bringing the proper ge
 ar.\nCloud Walker does not provide liability insurance for the protection 
 of individuals who may participate in any events planned by the Organizer\
 , Assistant organizer\, or event host. This release extends and applies to
 \, and also covers\, and includes all unknown\, unforeseen\, unanticipated
 \, and unsuspected injuries\, damages\, loss\, and liability.\nYour attend
 ance on a hike signifies that you have read and accepted the terms of this
  liability waiver. By signing up for this group or event you understand th
 at you are attending all events at your own risk. Organizers and Assistant
  Organizers of this group are just that\, we organize the events and hike 
 together as friends. There are no leaders on these hikes\, you are your ow
 n leader.\nWalkway Over the Hudson on AllTrailshttps://www.alltrails.com/.
 ../walkway-over-the-hudson--2...
ATTACH;FMTTYPE=image/jpeg:https://kingstonhappenings.org/wp-content/upload
 s/2025/11/568351437_25014787794813597_402581418891097268_n.jpg
CATEGORIES:@Featured,@Newsletter,Community,Sports and recreation
LOCATION:Walkway Over the Hudson\, 87 Haviland Rd.\, Highland \, New York\,
  12528\, United States
GEO:41.710477;-73.95506
X-APPLE-STRUCTURED-LOCATION;VALUE=URI;X-ADDRESS=87 Haviland Rd.\, Highland 
 \, New York\, 12528\, United States;X-APPLE-RADIUS=100;X-TITLE=Walkway Ove
 r the Hudson:geo:41.710477,-73.95506
END:VEVENT
BEGIN:VTIMEZONE
TZID:America/New_York
X-LIC-LOCATION:America/New_York
BEGIN:STANDARD
DTSTART:20251102T010000
TZOFFSETFROM:-0400
TZOFFSETTO:-0500
TZNAME:EST
END:STANDARD
END:VTIMEZONE
END:VCALENDAR