BEGIN:VCALENDAR
VERSION:2.0
PRODID:-//wp-events-plugin.com//7.2.3.1//EN
TZID:America/New_York
X-WR-TIMEZONE:America/New_York
BEGIN:VEVENT
UID:152056@kingstonhappenings.org
DTSTART;TZID=America/New_York:20251008T200000
DTEND;TZID=America/New_York:20251008T200000
DTSTAMP:20251007T130829Z
URL:https://kingstonhappenings.org/events/voices-unbound-chains-and-the-ri
 ght-to-read/
SUMMARY:Voices Unbound: Chains and the Right to Read
DESCRIPTION:Celebrate Banned Books Week with a powerful discussion of Chain
 s by Laurie Halse Anderson.\nRead the book. Bring your thoughts. Be part o
 f the conversation.\n&nbsp\;\nHarambee Kingston Executive Director Tyrone 
 Wilson and Ulster County Historian Eddie Moran will bring the novel’s se
 tting to life with insights into Kingston’s history\, politics\, and soc
 ial dynamics leading up to the Revolutionary War.\nThis powerful\, award-w
 inning novel raises urgent questions about freedom\, loyalty\, and justice
 —questions that resonate as strongly today as they did in the 18th centu
 ry.\nFor teens &amp\; adults. No registration required.
ATTACH;FMTTYPE=image/jpeg:https://kingstonhappenings.org/wp-content/upload
 s/2025/09/Voices-Unbound-KHAP.png
CATEGORIES:@Featured,@Newsletter,Community,Educational classes and
 lectures,History
LOCATION:Kingston Library\, 61 Crown St\, Kingston\, NY\, 12401\, United St
 ates
GEO:41.934381;-74.021982
X-APPLE-STRUCTURED-LOCATION;VALUE=URI;X-ADDRESS=61 Crown St\, Kingston\, NY
 \, 12401\, United States;X-APPLE-RADIUS=100;X-TITLE=Kingston Library:geo:4
 1.934381,-74.021982
END:VEVENT
BEGIN:VTIMEZONE
TZID:America/New_York
X-LIC-LOCATION:America/New_York
BEGIN:DAYLIGHT
DTSTART:20250309T030000
TZOFFSETFROM:-0500
TZOFFSETTO:-0400
TZNAME:EDT
END:DAYLIGHT
END:VTIMEZONE
END:VCALENDAR