BEGIN:VCALENDAR
VERSION:2.0
PRODID:-//wp-events-plugin.com//7.2.3.1//EN
TZID:America/New_York
X-WR-TIMEZONE:America/New_York
BEGIN:VEVENT
UID:151474@kingstonhappenings.org
DTSTART;TZID=America/New_York:20250816T190000
DTEND;TZID=America/New_York:20250816T190000
DTSTAMP:20250818T113517Z
URL:https://kingstonhappenings.org/events/vocal-velvet/
SUMMARY:Vocal Velvet: &#x1f3b6\;&#x1f3b6\; A CAPPELLA CHOIR &#x1f3b6\;&#x1f
 3b6\;
DESCRIPTION:We are so excited for our last summer camp of the year!! Vocal 
 Velvet will be performing Saturday\, 8/16 at 7pm at he Widow Jane Mine. If
  you are interested in seeing our amazing performance\, please use the QR 
 code on the flyer below. Thank you for your support and we hope to see you
  there!
ATTACH;FMTTYPE=image/jpeg:https://kingstonhappenings.org/wp-content/upload
 s/2025/08/528361557_1324334943030782_4945848003402016966_n.jpg
CATEGORIES:@Featured,@Newsletter,Festivals and major community
 events,Music,Nightlife and entertainment
LOCATION:The Snyder Estate\, 668 Route 213\, Rosendale\, New York\, United 
 States
GEO:41.840979;-74.097719
X-APPLE-STRUCTURED-LOCATION;VALUE=URI;X-ADDRESS=668 Route 213\, Rosendale\,
  New York\, United States;X-APPLE-RADIUS=100;X-TITLE=The Snyder Estate:geo
 :41.840979,-74.097719
END:VEVENT
BEGIN:VTIMEZONE
TZID:America/New_York
X-LIC-LOCATION:America/New_York
BEGIN:DAYLIGHT
DTSTART:20250309T030000
TZOFFSETFROM:-0500
TZOFFSETTO:-0400
TZNAME:EDT
END:DAYLIGHT
END:VTIMEZONE
END:VCALENDAR