BEGIN:VCALENDAR
VERSION:2.0
PRODID:-//wp-events-plugin.com//7.2.3.1//EN
TZID:America/New_York
X-WR-TIMEZONE:America/New_York
BEGIN:VEVENT
UID:153182@kingstonhappenings.org
DTSTART;TZID=America/New_York:20260107T160000
DTEND;TZID=America/New_York:20260107T173000
DTSTAMP:20260112T130057Z
URL:https://kingstonhappenings.org/events/visual-storytelling-2026-01-07/
SUMMARY:Visual Storytelling
DESCRIPTION:6 Wednesdays\nJanuary 7\, 14\, 21\, 28\, February 4\, 11\, 2026
  (Make up days\, Feb 18\, 25\, 2026)\n4:00 - 5:30 pm\n\nPrice: $250\n\nGra
 des 5-8\n\nWant to share your story in a creative way? Do you love comics\
 , graphic novels\, cartoons\, and other forms of sequential art? Using a c
 ombination of researched storytelling methods and artistic experiments\, s
 tudents will explore what makes the art of cartooning unique and work toge
 ther to translate our stories into real-life printed comic books. Students
  will be encouraged to stretch themselves creatively while still learning 
 the technical basics needed to create a professional comic book. Each stud
 ent will complete at least four pages of their own comic story\, and the f
 inal stories will be assembled and printed as an anthology collection avai
 lable at the local comic shop\, World End Comics.\n\n--------------------
 ---------------------\n\nPlease register at least a week in advance to gua
 rantee your spot. Scholarship availability closes 2 weeks prior to the sta
 rt of class.\n\n-----------------------------------------\n\nWe believe in
  access to art education for all. It takes the whole community to generate
  the equity our pay-what-you-can tuition generates. Behind the scenes\, we
  work to bridge the financial gap between what our students can pay and wh
 at we need to sustain our programs. Please consider carefully before you u
 se our discount codes.\n\nScholarship Codes:\nFor 25% discount use code "2
 5OFF\n\nFor 50% discount use code "50OFF"\n\nFor75% discount use code "75O
 FF"\n\nThis economic justice map from The Sliding Scale: A Tool of Econom
 ic Justice by Alexis J. Cunningfolk is useful to assess where you may fal
 l on the financial spectrum of pay what you can.\n\nTo request 100% off tu
 ition\, please contact chris@mkad.art
ATTACH;FMTTYPE=image/jpeg:https://kingstonhappenings.org/wp-content/upload
 s/2025/12/Visual-Storytelling.jpeg
CATEGORIES:Art,Educational classes and lectures,For kids
LOCATION:Midtown Kingston Arts District and the D.R.A.W.\, 20 Cedar Street\
 , Kingston\, NY\, 12401\, United States
GEO:41.928545;-74.004206
X-APPLE-STRUCTURED-LOCATION;VALUE=URI;X-ADDRESS=20 Cedar Street\, Kingston\
 , NY\, 12401\, United States;X-APPLE-RADIUS=100;X-TITLE=Midtown Kingston A
 rts District and the D.R.A.W.:geo:41.928545,-74.004206
END:VEVENT
BEGIN:VTIMEZONE
TZID:America/New_York
X-LIC-LOCATION:America/New_York
BEGIN:STANDARD
DTSTART:20251102T010000
TZOFFSETFROM:-0400
TZOFFSETTO:-0500
TZNAME:EST
END:STANDARD
END:VTIMEZONE
END:VCALENDAR