BEGIN:VCALENDAR
VERSION:2.0
PRODID:-//wp-events-plugin.com//7.2.3.1//EN
TZID:America/New_York
X-WR-TIMEZONE:America/New_York
BEGIN:VEVENT
UID:152330@kingstonhappenings.org
DTSTART;TZID=America/New_York:20251017T190000
DTEND;TZID=America/New_York:20251017T190000
DTSTAMP:20251013T172037Z
URL:https://kingstonhappenings.org/events/vinyl-biscuit/
SUMMARY:Vinyl Biscuit
DESCRIPTION:Vinyl Biscuit is a Hudson Valley–based groove machine serving
  up a tasty mix of funk\, pop\, and roots rock — music that grooves\, sw
 ings\, and sticks with you. With a lineup that balances experience and fre
 sh perspective\, the band creates a sound that’s polished\, soulful\, an
 d impossible to resist on the dance floor.\n\nVinyl Biscuit is:\n\nSara Es
 pinosa – Vocals\n\nMike Rotenberg – Guitar &amp\; Vocals\n\nCharlie Di
 giovanna – Keyboards &amp\; Vocals\n\nStephen Jacobs – Bass &amp\; Voc
 als\n\nRob Leitner – Vocals &amp\; Percussion\n\nBen Teters – Drums
CATEGORIES:@Featured,@Newsletter,Music,Nightlife and entertainment
LOCATION:Keegan Ales\, 20 Saint James Street\, Kingston\, NY\, 12401\, Unit
 ed States
GEO:41.931504;-74.01187
X-APPLE-STRUCTURED-LOCATION;VALUE=URI;X-ADDRESS=20 Saint James Street\, Kin
 gston\, NY\, 12401\, United States;X-APPLE-RADIUS=100;X-TITLE=Keegan Ales:
 geo:41.931504,-74.01187
END:VEVENT
BEGIN:VTIMEZONE
TZID:America/New_York
X-LIC-LOCATION:America/New_York
BEGIN:DAYLIGHT
DTSTART:20250309T030000
TZOFFSETFROM:-0500
TZOFFSETTO:-0400
TZNAME:EDT
END:DAYLIGHT
END:VTIMEZONE
END:VCALENDAR