BEGIN:VCALENDAR
VERSION:2.0
PRODID:-//wp-events-plugin.com//7.2.3.1//EN
TZID:America/New_York
X-WR-TIMEZONE:America/New_York
BEGIN:VEVENT
UID:153003@kingstonhappenings.org
DTSTART;TZID=America/New_York:20251210T180000
DTEND;TZID=America/New_York:20251210T210000
DTSTAMP:20251208T204554Z
URL:https://kingstonhappenings.org/events/vintage-board-game-night-sale/
SUMMARY:Vintage Board Game Night &amp\; Sale
DESCRIPTION:This one-night-only pop-up event offers a chance to revisit the
  classic charm of vintage board games\, with around 100 titles from the 19
 50s through the 1990s available for purchase. A selection of games will al
 so be on hand for attendees to play at West Kill’s tabletops. The collec
 tion spans a range of well-known favorites and lesser-known gems.
ATTACH;FMTTYPE=image/jpeg:https://kingstonhappenings.org/wp-content/upload
 s/2025/12/VintageBoardGameNight-Dec10-A-1.jpg
CATEGORIES:@Featured,@Newsletter,Nightlife and entertainment
LOCATION:Westkill Supply\, 602 Broadway Unit #2\, Kingston\, NY\, 12401\, U
 nited States
GEO:41.929774;-74.004185
X-APPLE-STRUCTURED-LOCATION;VALUE=URI;X-ADDRESS=602 Broadway Unit #2\, King
 ston\, NY\, 12401\, United States;X-APPLE-RADIUS=100;X-TITLE=Westkill Supp
 ly:geo:41.929774,-74.004185
END:VEVENT
BEGIN:VTIMEZONE
TZID:America/New_York
X-LIC-LOCATION:America/New_York
BEGIN:STANDARD
DTSTART:20251102T010000
TZOFFSETFROM:-0400
TZOFFSETTO:-0500
TZNAME:EST
END:STANDARD
END:VTIMEZONE
END:VCALENDAR