BEGIN:VCALENDAR
VERSION:2.0
PRODID:-//wp-events-plugin.com//7.2.3.1//EN
TZID:America/New_York
X-WR-TIMEZONE:America/New_York
BEGIN:VEVENT
UID:155764@kingstonhappenings.org
DTSTART;TZID=America/New_York:20260321T190000
DTEND;TZID=America/New_York:20260321T210000
DTSTAMP:20260316T191026Z
URL:https://kingstonhappenings.org/events/velvet-vision-the-story-of-james
 -bidgood-and-the-making-of-pink-narcissus-screening-conversation-with-film
 maker-bart-everly/
SUMMARY:VELVET VISION: THE STORY OF JAMES BIDGOOD AND THE MAKING OF PINK NA
 RCISSUS Screening + Conversation with Filmmaker Bart Everly
DESCRIPTION:Hello!\nWe are hosting a Velvet Vision on March 21st at Ti
 nker Street Cinema. Would you be able to share this event on your website'
 s Calendar? Here is some information\, and the ticket link:\n\nVELVET VISI
 ON: THE STORY OF JAMES BIDGOOD AND THE MAKING OF PINK NARCISSUS Screening 
 + Conversation with Filmmaker Bart Everly\nMarch 21st\, 7pm-9pm\, Tinker S
 treet Cinema\n132 Tinker Street\, Woodstock NY\, 12498\n\nJoin the Woodsto
 ck Film Festival &amp\; Queerly Inc. to celebrate the visionary artistry a
 nd radical legacy of James Bidgood. This documentary is an intimate portra
 it of a complex but brilliant man who\, despite his many challenges\, left
  behind his incredible technicolor artistry and a legacy that will continu
 e to shine brightly. The evening concludes with a conversation with Filmma
 ker Bart Everly\, moderated by Jonathan Van Meter\, veteran journalist and
  writer.\n\nTickets: $15.00\, Purchase here: https://wff.eventive.org/sc
 hedule/69a1db447b4d088403a54057\n\n\n\nThanks so much for your help.\n\n\n
 \nAll the best\,\nColton J. Dempsey\n\n\n
ATTACH;FMTTYPE=image/jpeg:https://kingstonhappenings.org/wp-content/upload
 s/2026/03/VELVET-VISION-x-QUEERLY.png
CATEGORIES:@Featured,@Newsletter,Movies
LOCATION:Tinker Street Cinema\, 132 Tinker St\, Woodstock\, New York\, 1249
 8\, United States
GEO:42.040688;-74.127162
X-APPLE-STRUCTURED-LOCATION;VALUE=URI;X-ADDRESS=132 Tinker St\, Woodstock\,
  New York\, 12498\, United States;X-APPLE-RADIUS=100;X-TITLE=Tinker Street
  Cinema:geo:42.040688,-74.127162
END:VEVENT
BEGIN:VTIMEZONE
TZID:America/New_York
X-LIC-LOCATION:America/New_York
BEGIN:DAYLIGHT
DTSTART:20260308T030000
TZOFFSETFROM:-0500
TZOFFSETTO:-0400
TZNAME:EDT
END:DAYLIGHT
END:VTIMEZONE
END:VCALENDAR