BEGIN:VCALENDAR
VERSION:2.0
PRODID:-//wp-events-plugin.com//7.2.3.1//EN
TZID:America/New_York
X-WR-TIMEZONE:America/New_York
BEGIN:VEVENT
UID:153336@kingstonhappenings.org
DTSTART;TZID=America/New_York:20260213T200000
DTEND;TZID=America/New_York:20260213T220000
DTSTAMP:20251230T161328Z
URL:https://kingstonhappenings.org/events/vasen-the-fretless/
SUMMARY:Väsen &amp\; The Fretless
DESCRIPTION:Join us for an unforgettable evening with Väsen and The Fre
 tless at Tempo in Kingston\, NY. Väsen-Duo\, featuring Mikael Marin and
  Olov Johansson\, have\, after 37 years of interaction and touring\, refin
 ed their sound and stage presence to create a unique musical language.\n\n
 Their playful and intense music\, rooted in the traditional music of Uppla
 nd\, combines modern flair with ancient traditions\, performed on a variet
 y of stringed instruments including a silverbasharpa and a blue electric v
 iola.\n\nSharing the stage is The Fretless\, an award-winning Canadian fo
 ursome that has firmly established itself on the international scene. Know
 n for their prolific playing and electrifying live shows\, they transform 
 fiddle tunes and folk melodies into intricate\, high-energy arrangements. 
 Their ensemble of two fiddles\, a viola\, and a cello produces a rich\, mu
 lti-layered\, and distinctive percussive sound that redefines contemporary
  folk music.\n\nThis special night of Folk Fusion is a rare opportunity to
  witness the dynamic interplay of Nordic and North American folk tradition
 s. The intimate setting of Tempo allows you to experience the vibrant coll
 aboration up close\, promising an evening filled with melody\, rhythm\, an
 d cultural harmony.\n\nDoors open at 7:30 PM\, and the performance begins 
 at 8 PM. Secure your spot for this extraordinary musical experience!
ATTACH;FMTTYPE=image/jpeg:https://kingstonhappenings.org/wp-content/upload
 s/2025/12/Vasen-The-Fretless-Viewcy.png
CATEGORIES:@Featured,Music
LOCATION:Tempo Arts\, 29 Wurts St. \, KINGSTON\, NY\, 12401\, United States
GEO:41.918241;-73.986437
X-APPLE-STRUCTURED-LOCATION;VALUE=URI;X-ADDRESS=29 Wurts St. \, KINGSTON\, 
 NY\, 12401\, United States;X-APPLE-RADIUS=100;X-TITLE=Tempo Arts:geo:41.91
 8241,-73.986437
END:VEVENT
BEGIN:VTIMEZONE
TZID:America/New_York
X-LIC-LOCATION:America/New_York
BEGIN:STANDARD
DTSTART:20251102T010000
TZOFFSETFROM:-0400
TZOFFSETTO:-0500
TZNAME:EST
END:STANDARD
END:VTIMEZONE
END:VCALENDAR