BEGIN:VCALENDAR
VERSION:2.0
PRODID:-//wp-events-plugin.com//7.2.3.1//EN
TZID:America/New_York
X-WR-TIMEZONE:America/New_York
BEGIN:VEVENT
UID:153006@kingstonhappenings.org
DTSTART;TZID=America/New_York:20251213T130000
DTEND;TZID=America/New_York:20251213T150000
DTSTAMP:20251208T204603Z
URL:https://kingstonhappenings.org/events/vanaver-caravan-into-the-light/
SUMMARY:Vanaver Caravan\; Into The Light
DESCRIPTION: A holiday tradition for nearly two decades\, Into the Light
  returns to Rosendale Theatre Dec. 13–14. The Vanaver Caravan and Arm
 -of-the-Sea Theater combine giant puppets\, global dance\, and live music 
 in a joyful celebration of cultural winter traditions from around the worl
 d.\nThe show highlights holidays including Kwanzaa\, Diwali\, Christmas\, 
 Chanukah\, Sankta Lucia\, Yule\, and Winter Solstice — celebrating the m
 any cultural ways people spark joy and togetherness through the colder mon
 ths. Blending Arm-of-the-Sea Theater’s spectacular puppetry with The Va
 naver Caravan’s vibrant world dance repertoire\, Into the Light remin
 ds us that community is the warmth that carries us through winter.
ATTACH;FMTTYPE=image/jpeg:https://kingstonhappenings.org/wp-content/upload
 s/2025/12/Into-the-Light-sm-2.png
CATEGORIES:@Featured,@Newsletter,Theater
LOCATION:Rosendale Theater\, 408 Main St\, Rosendale\, New York\, 12472\, U
 nited States
GEO:41.8441401;-74.0821133
X-APPLE-STRUCTURED-LOCATION;VALUE=URI;X-ADDRESS=408 Main St\, Rosendale\, N
 ew York\, 12472\, United States;X-APPLE-RADIUS=100;X-TITLE=Rosendale Theat
 er:geo:41.8441401,-74.0821133
END:VEVENT
BEGIN:VTIMEZONE
TZID:America/New_York
X-LIC-LOCATION:America/New_York
BEGIN:STANDARD
DTSTART:20251102T010000
TZOFFSETFROM:-0400
TZOFFSETTO:-0500
TZNAME:EST
END:STANDARD
END:VTIMEZONE
END:VCALENDAR