BEGIN:VCALENDAR
VERSION:2.0
PRODID:-//wp-events-plugin.com//7.2.3.1//EN
TZID:America/New_York
X-WR-TIMEZONE:America/New_York
BEGIN:VEVENT
UID:155299@kingstonhappenings.org
DTSTART;TZID=America/New_York:20260214T170000
DTEND;TZID=America/New_York:20260214T200000
DTSTAMP:20260209T163343Z
URL:https://kingstonhappenings.org/events/valentines-day/
SUMMARY:Valentine's Day
DESCRIPTION:Madi &amp\; Sara will be offering“A Perfect Pair”- Bites an
 d Flights for two! Featuring 4 of Madi’s house-made wines matched with 4
  small bites for $35. Full menu coming soon!\nOur normal menu and deliciou
 s house-made beverages will also be available all amongst a cozy atmospher
 e &amp\; tunes by one of the Hudson Valley’s favorite duos\, Hey Bub. Co
 me on over. Bring your love.\nHey Bub is a Hudson valley local duo made up
  of Lily Claire Bergstein and Christian Joao. Their sound is American old 
 time music with complex harmonies that entertain people of all ages. You w
 ill find yourself being transported back in time while tapping your feet a
 nd maybe even singing along!\nOpen 12-9Music 5-8\nFree admission. No reser
 vations.
ATTACH;FMTTYPE=image/jpeg:https://kingstonhappenings.org/wp-content/upload
 s/2026/02/616176141_874513948799190_3196540950098204221_n.jpg
CATEGORIES:@Featured,@Newsletter,Festivals and major community
 events,Restaurant promotions
LOCATION:RMV Cellars\, 112 Burroughs Drive\, Esopus\, NY\, 12401\, United S
 tates
GEO:41.783753;-73.962551
X-APPLE-STRUCTURED-LOCATION;VALUE=URI;X-ADDRESS=112 Burroughs Drive\, Esopu
 s\, NY\, 12401\, United States;X-APPLE-RADIUS=100;X-TITLE=RMV Cellars:geo:
 41.783753,-73.962551
END:VEVENT
BEGIN:VTIMEZONE
TZID:America/New_York
X-LIC-LOCATION:America/New_York
BEGIN:STANDARD
DTSTART:20251102T010000
TZOFFSETFROM:-0400
TZOFFSETTO:-0500
TZNAME:EST
END:STANDARD
END:VTIMEZONE
END:VCALENDAR