BEGIN:VCALENDAR
VERSION:2.0
PRODID:-//wp-events-plugin.com//7.2.3.1//EN
TZID:America/New_York
X-WR-TIMEZONE:America/New_York
BEGIN:VEVENT
UID:155043@kingstonhappenings.org
DTSTART;TZID=America/New_York:20260214T200000
DTEND;TZID=America/New_York:20260214T230000
DTSTAMP:20260209T163344Z
URL:https://kingstonhappenings.org/events/valentines-day-dance-party/
SUMMARY:Valentine's Day Dance Party!
DESCRIPTION:Join us for a high-energy Valentine’s Day Dance Party!\nSet i
 n the Carriage House just steps away from Edgewood Mansion\, dance the nig
 ht away to the music of a live band from 8PM – 11PM.\n\n&nbsp\;\n\nWheth
 er you’re coming after dinner or making the dance floor the main event\,
  this is the perfect way to celebrate your way. Join us to fill the Carria
 ge House with music\, movement\, and romance.\n\n&nbsp\;\n\n 	Live band | 
 8 PM – 11 PM\n 	Romantic\, lively dance-party atmosphere\n 	Bar availabl
 e for purchase\n 	Ideal for couples\, friends\, and anyone ready to celebr
 ate!\n\n&nbsp\;\n\nReservations available for purchase at huttonbrickyards
 .com. Hope to see you there!\n\n&nbsp\;\n\nVisit our two seasonal restaura
 nts at Hutton Brickyards. Edgewood open November-April. River Pavilion o
 pen for the season May/2025!
ATTACH;FMTTYPE=image/jpeg:https://kingstonhappenings.org/wp-content/upload
 s/2026/01/Carriage-House-Dance-Party-copy.jpg
CATEGORIES:@Featured,@Newsletter,Dance,Festivals and major community
 events
LOCATION:EDGEWOOD RESTAURANT & BAR\, 132 Lindsey Ave\, KINGSTON\, NY\, 1240
 1\, United States
GEO:41.93003;-73.973736
X-APPLE-STRUCTURED-LOCATION;VALUE=URI;X-ADDRESS=132 Lindsey Ave\, KINGSTON\
 , NY\, 12401\, United States;X-APPLE-RADIUS=100;X-TITLE=EDGEWOOD RESTAURAN
 T & BAR:geo:41.93003,-73.973736
END:VEVENT
BEGIN:VTIMEZONE
TZID:America/New_York
X-LIC-LOCATION:America/New_York
BEGIN:STANDARD
DTSTART:20251102T010000
TZOFFSETFROM:-0400
TZOFFSETTO:-0500
TZNAME:EST
END:STANDARD
END:VTIMEZONE
END:VCALENDAR