BEGIN:VCALENDAR
VERSION:2.0
PRODID:-//wp-events-plugin.com//7.2.3.1//EN
TZID:America/New_York
X-WR-TIMEZONE:America/New_York
BEGIN:VEVENT
UID:156430@kingstonhappenings.org
DTSTART;TZID=America/New_York:20260523T140000
DTEND;TZID=America/New_York:20260523T153000
DTSTAMP:20260423T124810Z
URL:https://kingstonhappenings.org/events/uno-no-mercy-tournament-2/
SUMMARY:Uno No Mercy Tournament #2!
DESCRIPTION:It’s back!\n\nCome on out to our second... Uno No Mercy Tourn
 ament!\n\nSaturday\, May 23rd\, 2026. 2:00pm\n\n&#x1f947\; All ages - adul
 ts and kids!\n&#x1f948\;Hosted at World’s End Comics\n&#x1f949\; 319 Wal
 l St\, Kingston NY\n\nEvent is organized by local Kingston kid – Adi Ker
 r-Finell! : )\n\nTo sign up or learn more\, email: adikerrfinell@gmail.com
ATTACH;FMTTYPE=image/jpeg:https://kingstonhappenings.org/wp-content/upload
 s/2026/04/May-Uno-Tournament-Color.png
CATEGORIES:@Featured,Community,For kids
LOCATION:World's End Comics\, 319 Wall St.\, KINGSTON\, NY\, 12401\, United
  States
GEO:41.934516;-74.020327
X-APPLE-STRUCTURED-LOCATION;VALUE=URI;X-ADDRESS=319 Wall St.\, KINGSTON\, N
 Y\, 12401\, United States;X-APPLE-RADIUS=100;X-TITLE=World's End Comics:ge
 o:41.934516,-74.020327
END:VEVENT
BEGIN:VTIMEZONE
TZID:America/New_York
X-LIC-LOCATION:America/New_York
BEGIN:DAYLIGHT
DTSTART:20260308T030000
TZOFFSETFROM:-0500
TZOFFSETTO:-0400
TZNAME:EDT
END:DAYLIGHT
END:VTIMEZONE
END:VCALENDAR