BEGIN:VCALENDAR
VERSION:2.0
PRODID:-//wp-events-plugin.com//7.2.3.1//EN
TZID:America/New_York
X-WR-TIMEZONE:America/New_York
BEGIN:VEVENT
UID:154948@kingstonhappenings.org
DTSTART;TZID=America/New_York:20260131T163000
DTEND;TZID=America/New_York:20260131T183000
DTSTAMP:20260125T234656Z
URL:https://kingstonhappenings.org/events/uniting-in-the-name-of-mlk-jr-ag
 ainst-fascism/
SUMMARY:Uniting in the Name Of MLK Jr Against Fascism
DESCRIPTION:This event is a commemoration of MLK Jr asking folks to unite i
 n his name against fascism.\n\nPeople will speak on various aspects of fas
 cism including history and current events and how we can work together to 
 keep us safe and support the efforts of groups and organizations who are w
 orking against fascism and for a just community.
ATTACH;FMTTYPE=image/jpeg:https://kingstonhappenings.org/wp-content/upload
 s/2026/01/MLK.png
CATEGORIES:@Featured,@Newsletter,Community
LOCATION:A.J. Williams-Myers African Roots Center\, 43 Gill St. \, Kingston
 \, NY\, 12401\, United States
GEO:41.927037;-73.997361
X-APPLE-STRUCTURED-LOCATION;VALUE=URI;X-ADDRESS=43 Gill St. \, Kingston\, N
 Y\, 12401\, United States;X-APPLE-RADIUS=100;X-TITLE=A.J. Williams-Myers A
 frican Roots Center:geo:41.927037,-73.997361
END:VEVENT
BEGIN:VTIMEZONE
TZID:America/New_York
X-LIC-LOCATION:America/New_York
BEGIN:STANDARD
DTSTART:20251102T010000
TZOFFSETFROM:-0400
TZOFFSETTO:-0500
TZNAME:EST
END:STANDARD
END:VTIMEZONE
END:VCALENDAR