BEGIN:VCALENDAR
VERSION:2.0
PRODID:-//wp-events-plugin.com//7.2.3.1//EN
TZID:America/New_York
X-WR-TIMEZONE:America/New_York
BEGIN:VEVENT
UID:152040@kingstonhappenings.org
DTSTART;TZID=America/New_York:20251109T120000
DTEND;TZID=America/New_York:20251109T150000
DTSTAMP:20251103T160745Z
URL:https://kingstonhappenings.org/events/unhinged-speed-dating/
SUMMARY:Unhinged Speed Dating
DESCRIPTION:Get ready for an Unhinged Singles Social at Wiltwyck Golf Club
 —where dating is anything but par for the course! Sip bubbly drinks\, to
 ur the course on golf carts\, and show off your skills in a flirty putt-pu
 tt challenge with prizes.\n\nWin restaurant gift cards\, test your trivia 
 knowledge\, and mingle with singles from Kingston\, Woodstock\, Hudson\, N
 ew Paltz\, Beacon\, and beyond.\n\nOpen to all curious\, open-minded atten
 dees\, with two age groups to keep things interesting.\n\nStick around for
  food\, fun\, and connections that might just go beyond the green.\n\n RSV
 P before spots fill!\n\n&nbsp\;\n\n&nbsp\;
ATTACH;FMTTYPE=image/jpeg:https://kingstonhappenings.org/wp-content/upload
 s/2025/09/wiltsmaller.png
CATEGORIES:@Featured,@Newsletter,Community,Nightlife and entertainment
LOCATION:Wiltwyck Golf Club\, 404 Stewart Lane\, Kingston\, NY\, 12401\, Un
 ited States
GEO:41.915238;-74.040725
X-APPLE-STRUCTURED-LOCATION;VALUE=URI;X-ADDRESS=404 Stewart Lane\, Kingston
 \, NY\, 12401\, United States;X-APPLE-RADIUS=100;X-TITLE=Wiltwyck Golf Clu
 b:geo:41.915238,-74.040725
END:VEVENT
BEGIN:VTIMEZONE
TZID:America/New_York
X-LIC-LOCATION:America/New_York
BEGIN:STANDARD
DTSTART:20251102T010000
TZOFFSETFROM:-0400
TZOFFSETTO:-0500
TZNAME:EST
END:STANDARD
END:VTIMEZONE
END:VCALENDAR