BEGIN:VCALENDAR
VERSION:2.0
PRODID:-//wp-events-plugin.com//7.2.3.1//EN
TZID:America/New_York
X-WR-TIMEZONE:America/New_York
BEGIN:VEVENT
UID:152401@kingstonhappenings.org
DTSTART;TZID=America/New_York:20251025T110000
DTEND;TZID=America/New_York:20251025T110000
DTSTAMP:20251027T132801Z
URL:https://kingstonhappenings.org/events/ulstercorps-15th-annual-zombie-e
 scape/
SUMMARY:UlsterCorps’ 15th Annual Zombie Escape
DESCRIPTION:Kick off your Halloween at UlsterCorps’ 15th Annual Zombie Es
 cape\, Saturday October 25th\, 2025 (Sunday October 26th rain date)\, at F
 ifth Lake Hudson Valley (formerly Williams Lake) in Rosendale. Events incl
 ude a 5k timed trail run\, 2k walk and a free 1k Fun Run for kids. The Zom
 bie Escape is UlsterCorps’ primary annual fundraiser\, and a perfect fam
 ily friendly way to start your Halloween while supporting a great cause. E
 njoy the spectacular fall foliage and beautiful trails at Fifth Lake Hudso
 n Valley\, while passing zombies and other spooky surprises hiding in the 
 woods\, tunnels and caves. All runners including kids will receive a theme
 d race medal. Custom awards in overall and age groups for the 5K. Register
  for the 5K Race or 2K Walk by Friday October 3rd and receive a FREE t-shi
 rt!\nSchedule:11:00 am – 1K Kids Fun Run (FREE!)11:30 am – 5K Timed Ra
 ce &amp\; Zombie Escape11:45 am – 2K Walk/Hike\nOnline Registration:http
 s://zippy-reg.com/register/zombierun\nOnline Registration by Friday Octobe
 r 24th\, 1pm: $25 for adults\; $20 for participants 17 and underRegister f
 or the 5K Race or 2K Walk by Friday October 3rd\, 2025and receive a FREE t
 -shirt!\nTeam Rate: $20 for adults\; $15 for participants 17 and underFREE
  t-shirts if registered by Friday October 3rd\, 2025!A team must have at l
 east five members andregister by Friday October 17th\, 2025Teams with 10 o
 r more members who register by 10/3/25 can have their team name or logo di
 splayed on the shirts!\n\n1K Kids Fun Run: Free! Donations Welcome!(no fre
 e t-shirt)\nDay-of Registration for 5K Race and 2K Walk: $35 for adults\; 
 $25 for participants 17 and under\n...\nTo learn more\, volunteer or spons
 or the event\, please email zombies@ulstercorps.org\, call/text us at 845-
 481-0331\, or visit https://zombies.ulstercorps.org .\nAll proceeds bene
 fit UlsterCorps. Thank you for your support!
ATTACH;FMTTYPE=image/jpeg:https://kingstonhappenings.org/wp-content/upload
 s/2025/10/539189312_1219922710171583_2508981652094492281_n.jpg
CATEGORIES:@Featured,@Newsletter,Community,For kids,Sports and recreation
LOCATION:Williams Lake\, \, 
X-APPLE-STRUCTURED-LOCATION;VALUE=URI;X-ADDRESS=\, ;X-APPLE-RADIUS=100;X-TI
 TLE=Williams Lake:geo:0,0
END:VEVENT
BEGIN:VTIMEZONE
TZID:America/New_York
X-LIC-LOCATION:America/New_York
BEGIN:DAYLIGHT
DTSTART:20250309T030000
TZOFFSETFROM:-0500
TZOFFSETTO:-0400
TZNAME:EDT
END:DAYLIGHT
END:VTIMEZONE
END:VCALENDAR