BEGIN:VCALENDAR
VERSION:2.0
PRODID:-//wp-events-plugin.com//7.2.3.1//EN
TZID:America/New_York
X-WR-TIMEZONE:America/New_York
BEGIN:VEVENT
UID:155805@kingstonhappenings.org
DTSTART;TZID=America/New_York:20260313T110000
DTEND;TZID=America/New_York:20260313T130000
DTSTAMP:20260309T132106Z
URL:https://kingstonhappenings.org/events/ulster-county-naturalization-cer
 emony/
SUMMARY:Ulster County Naturalization Ceremony
DESCRIPTION:Ulster County Naturalization Ceremony
ATTACH;FMTTYPE=image/jpeg:https://kingstonhappenings.org/wp-content/upload
 s/2026/03/645206176_1325352149620018_5709765040553454186_n.jpg
CATEGORIES:@Featured,@Newsletter,Community
LOCATION:Ulster County Courthouse\, 285 Wall Street\, Kingston\, NY\, 12401
 \, United States
GEO:41.933202;-74.020105
X-APPLE-STRUCTURED-LOCATION;VALUE=URI;X-ADDRESS=285 Wall Street\, Kingston\
 , NY\, 12401\, United States;X-APPLE-RADIUS=100;X-TITLE=Ulster County Cour
 thouse:geo:41.933202,-74.020105
END:VEVENT
BEGIN:VTIMEZONE
TZID:America/New_York
X-LIC-LOCATION:America/New_York
BEGIN:DAYLIGHT
DTSTART:20260308T030000
TZOFFSETFROM:-0500
TZOFFSETTO:-0400
TZNAME:EDT
END:DAYLIGHT
END:VTIMEZONE
END:VCALENDAR