BEGIN:VCALENDAR
VERSION:2.0
PRODID:-//wp-events-plugin.com//7.2.3.1//EN
TZID:America/New_York
X-WR-TIMEZONE:America/New_York
BEGIN:VEVENT
UID:152047@kingstonhappenings.org
DTSTART;TZID=America/New_York:20251008T183000
DTEND;TZID=America/New_York:20251112T200000
DTSTAMP:20251110T222415Z
URL:https://kingstonhappenings.org/events/ulster-county-camera-club-monthl
 y-meetings/
SUMMARY:Ulster County Camera Club Monthly Meetings
DESCRIPTION:Ulster County Photography Club\nAll photographers invited\, fro
 m beginners to experienced!\nThe Ulster County Photography Club is a group
  of community members that share a passion for photography and a common co
 mmitment to grow as photographers.\nMeetings:\nWe meet the second Wednesda
 y of each month beginning at 6:30pm (downstairs) at the Town of Esopus Lib
 rary\, 28 Canal St\, Port Ewen\, NY\nGuest speakers\, photo-sharing\, phot
 ography tutorials\, print competitions\, critiques\, exhibitions\, photo s
 hoots\, and more...\nucphotoclub.org
CATEGORIES:@Featured,@Newsletter,Community
LOCATION:Town of Esopus Library\, 128 Canal St\, Port Ewen\, NY\, United St
 ates
GEO:41.909662;-73.9752545
X-APPLE-STRUCTURED-LOCATION;VALUE=URI;X-ADDRESS=128 Canal St\, Port Ewen\, 
 NY\, United States;X-APPLE-RADIUS=100;X-TITLE=Town of Esopus Library:geo:4
 1.909662,-73.9752545
END:VEVENT
BEGIN:VTIMEZONE
TZID:America/New_York
X-LIC-LOCATION:America/New_York
BEGIN:DAYLIGHT
DTSTART:20250309T030000
TZOFFSETFROM:-0500
TZOFFSETTO:-0400
TZNAME:EDT
END:DAYLIGHT
BEGIN:STANDARD
DTSTART:20251102T010000
TZOFFSETFROM:-0400
TZOFFSETTO:-0500
TZNAME:EST
END:STANDARD
END:VTIMEZONE
END:VCALENDAR