BEGIN:VCALENDAR
VERSION:2.0
PRODID:-//wp-events-plugin.com//7.2.3.1//EN
TZID:America/New_York
X-WR-TIMEZONE:America/New_York
BEGIN:VEVENT
UID:152456@kingstonhappenings.org
DTSTART;TZID=America/New_York:20251101T130000
DTEND;TZID=America/New_York:20251101T130000
DTSTAMP:20251029T115318Z
URL:https://kingstonhappenings.org/events/uccac-fall-festival/
SUMMARY:UCCAC FAll Festival
DESCRIPTION:Bring the whole family out for an afternoon of fun\, food\, and
  community at our Fall Festival 2025! This FREE event is open to everyone 
 and packed with activities for all ages.\nFace painting &amp\; glitter tat
 toos\nPhoto booth with fall-themed props\nFall craft stations (pumpkin dec
 orating\, leaf rubbings)\nOpen Interviews for teaching positions at UCCAC\
 nMore vendors and activities announced each week\n Open House:Visit our c
 lassrooms\, meet our staff\, and learn more about UCCAC’s Head Start and
  Early Head Start programs. Staff will be available to answer questions an
 d help with applications.\nWe can’t wait to celebrate the season with yo
 u. Mark “Interested” or “Going” to stay updated as we announce ven
 dors\, partners\, and special activities.\nUpdate Update! Now Added:Open I
 nterviews for teaching positions at UCCAC\, see our open positions https:
 //uccac.isolvedhire.com/jobs/\nTabling by Family of Woodstock Inc RUPCO Ma
 ternal Infant Services Network Town of Ulster Public Library Caring Majori
 ty Rising Ulster County Habitat for Humanity Neighboring Trees Project\, a
 nd Thrive On Network !!\nSponsorship by Play Haven
ATTACH;FMTTYPE=image/jpeg:https://kingstonhappenings.org/wp-content/upload
 s/2025/10/552668380_1234769225357973_6449207018867862706_n.jpg
CATEGORIES:@Featured,@Newsletter,Community,For kids
LOCATION:Ulster County Community Action \, 70 Lindsley Avenue\, Kingston\, 
 NY\, 12401\, United States
GEO:41.927892;-73.97251790000001
X-APPLE-STRUCTURED-LOCATION;VALUE=URI;X-ADDRESS=70 Lindsley Avenue\, Kingst
 on\, NY\, 12401\, United States;X-APPLE-RADIUS=100;X-TITLE=Ulster County C
 ommunity Action :geo:41.927892,-73.97251790000001
END:VEVENT
BEGIN:VTIMEZONE
TZID:America/New_York
X-LIC-LOCATION:America/New_York
BEGIN:DAYLIGHT
DTSTART:20250309T030000
TZOFFSETFROM:-0500
TZOFFSETTO:-0400
TZNAME:EDT
END:DAYLIGHT
END:VTIMEZONE
END:VCALENDAR