BEGIN:VCALENDAR
VERSION:2.0
PRODID:-//wp-events-plugin.com//7.2.3.1//EN
TZID:America/New_York
X-WR-TIMEZONE:America/New_York
BEGIN:VEVENT
UID:155355@kingstonhappenings.org
DTSTART;TZID=America/New_York:20260219T200000
DTEND;TZID=America/New_York:20260219T200000
DTSTAMP:20260223T124953Z
URL:https://kingstonhappenings.org/events/tusk-a-classic-tribute-to-fleetw
 ood-mac/
SUMMARY:TUSK: A CLASSIC TRIBUTE TO FLEETWOOD MAC
DESCRIPTION:Playing the hits and deep cuts spanning the career of Rock &amp
 \; Roll Hall Of Fame group Fleetwood Mac\, Tusk has been crisscrossing the
  country since 2008 as The Classic Fleetwood Mac Tribute. Five pro musicia
 ns turned into masters of their trade through decades of individual music 
 study\, live performance\, creative risk and devotion to the art. TUSK fea
 tures note-perfect renditions of both the solo and full band songs\, with 
 each member specializing in one of the core lineup of Fleetwood Mac (Linds
 ey Buckingham\, Stevie Nicks\, Christine McVie\, John McVie\, and Mick Fle
 etwood). They possess an electric stage presence that can only come from w
 ell over a decade touring together. Truly the best at what they do\, TUSK 
 is unmatched in their tribute to one of the greatest bands of all time.\n\
 n&nbsp\;\n\nGA Seated: $50 +fees / GA Standing: $35 +fees
ATTACH;FMTTYPE=image/jpeg:https://kingstonhappenings.org/wp-content/upload
 s/2026/02/574615461_122192199284562532_8637229782429476690_n-e177126311739
 9.jpg
CATEGORIES:@Featured,@Newsletter,Music,Nightlife and entertainment
LOCATION:Assembly\, 236 Wall St. 3rd Floor\, KINGSTON\, NY\, 12401\, United
  States
GEO:41.931738;-74.018648
X-APPLE-STRUCTURED-LOCATION;VALUE=URI;X-ADDRESS=236 Wall St. 3rd Floor\, KI
 NGSTON\, NY\, 12401\, United States;X-APPLE-RADIUS=100;X-TITLE=Assembly:ge
 o:41.931738,-74.018648
END:VEVENT
BEGIN:VTIMEZONE
TZID:America/New_York
X-LIC-LOCATION:America/New_York
BEGIN:STANDARD
DTSTART:20251102T010000
TZOFFSETFROM:-0400
TZOFFSETTO:-0500
TZNAME:EST
END:STANDARD
END:VTIMEZONE
END:VCALENDAR