BEGIN:VCALENDAR
VERSION:2.0
PRODID:-//wp-events-plugin.com//7.2.3.1//EN
TZID:America/New_York
X-WR-TIMEZONE:America/New_York
BEGIN:VEVENT
UID:152296@kingstonhappenings.org
DTSTART;TZID=America/New_York:20251127T090000
DTEND;TZID=America/New_York:20251127T120000
DTSTAMP:20251012T124521Z
URL:https://kingstonhappenings.org/events/turkey-trot/
SUMMARY:Turkey Trot
DESCRIPTION:The Junior League of Kingston is thrilled to announce the retur
 n of our beloved 5K Turkey Trot\, just in time for Thanksgiving! Join us f
 or a fun\, festive\, and family-friendly morning that supports a great cau
 se and kicks off the holiday season with energy and community spirit.\n\nW
 hether you’re a seasoned runner\, a casual walker\, or simply looking fo
 r a healthy way to start your Thanksgiving Day\, this event is for you!\n\
 nLet’s make this Thanksgiving memorable – one trot at a time. We can
 ’t wait to see you at the starting line!\nIMPORTANT DETAILS\nSign up by 
 Oct 31st to guarantee a t-shirt!\nPlease note registration will begin at 8
 AM and the race will kick off at 9AM.\nPark in the lot located at 79 Hurle
 y Ave\; building with Blue Duck Brewing\, Overlook Bicycles\nThis is an ou
 t and back race on the O&amp\;W Rail Trail\nhttps://kingston.jl.org/events
 /register-jlk-annual-turkey-trot/
ATTACH;FMTTYPE=image/jpeg:https://kingstonhappenings.org/wp-content/upload
 s/2025/10/image0-1.jpeg
CATEGORIES:@Featured,@Newsletter,Community,Sports and recreation
LOCATION:Blue Duck Brewery\, 79 Hurley Ave.\, KINGSTON\, NY\, 12401\, Unite
 d States
GEO:41.937652;-74.028833
X-APPLE-STRUCTURED-LOCATION;VALUE=URI;X-ADDRESS=79 Hurley Ave.\, KINGSTON\,
  NY\, 12401\, United States;X-APPLE-RADIUS=100;X-TITLE=Blue Duck Brewery:g
 eo:41.937652,-74.028833
END:VEVENT
BEGIN:VTIMEZONE
TZID:America/New_York
X-LIC-LOCATION:America/New_York
BEGIN:STANDARD
DTSTART:20251102T010000
TZOFFSETFROM:-0400
TZOFFSETTO:-0500
TZNAME:EST
END:STANDARD
END:VTIMEZONE
END:VCALENDAR