BEGIN:VCALENDAR
VERSION:2.0
PRODID:-//wp-events-plugin.com//7.2.3.1//EN
TZID:America/New_York
X-WR-TIMEZONE:America/New_York
BEGIN:VEVENT
UID:152629@kingstonhappenings.org
DTSTART;TZID=America/New_York:20251114T200000
DTEND;TZID=America/New_York:20251114T200000
DTSTAMP:20251117T145418Z
URL:https://kingstonhappenings.org/events/trombone-shorty-orleans-avenue-w
 ith-special-guest-southern-avenue/
SUMMARY:Trombone Shorty & Orleans Avenue With Special Guest Southern Avenue
DESCRIPTION:Born Troy Andrews\, Trombone Shorty got his start (and nickname
 ) earlier than most: at four\, he made his first appearance at Jazz Fest p
 erforming with Bo Diddley\; at six\, he was leading his own brass band\; a
 nd by his teenage years\, he was hired by Lenny Kravitz to join the band h
 e assembled for his Electric Church World Tour. Shorty’s proven he’s m
 ore than just a horn player\, though. Catch a gig\, open the pages of the 
 New York Times or Vanity Fair\, flip on any late-night or morning TV show 
 and you’ll see an undeniable star with utterly magnetic charisma\, a nat
 ural born showman who can command an audience with the best of them.\nSinc
 e 2010\, he’s released five chart topping studio albums (his most recent
  being 2022’s Lifted)\; toured with everyone from Jeff Beck to the Red H
 ot Chili Peppers\; collaborated across genres with Pharrell\, Bruno Mars\,
  Mark Ronson\, Foo Fighters\, ZHU\, Zac Brown\, Normani\, Ringo Starr\, an
 d countless more\; played Coachella\, Bonnaroo\, Lollapalooza\, Newport Fo
 lk\, Newport Jazz\, and nearly every other major festival\; performed four
  times at the GRAMMY Awards\, six times at the White House\, on dozens of 
 TV shows\, and at the star-studded Sesame Street Gala\, where he was honor
 ed with his own Muppet\; launched the Trombone Shorty Foundation to suppor
 t youth music education\; and received the prestigious Caldecott Honor for
  his first children’s book.
ATTACH;FMTTYPE=image/jpeg:https://kingstonhappenings.org/wp-content/upload
 s/2025/11/503275566_1114769210695026_2054835104813075292_n.jpg
CATEGORIES:@Featured,@Newsletter,Music,Nightlife and entertainment
LOCATION:Ulster Performing Arts Center (UPAC)\, 601 Broadway\, Kingston\, N
 ew York\, 12401\, United States
GEO:41.92931799999999;-74.004142
X-APPLE-STRUCTURED-LOCATION;VALUE=URI;X-ADDRESS=601 Broadway\, Kingston\, N
 ew York\, 12401\, United States;X-APPLE-RADIUS=100;X-TITLE=Ulster Performi
 ng Arts Center (UPAC):geo:41.92931799999999,-74.004142
END:VEVENT
BEGIN:VTIMEZONE
TZID:America/New_York
X-LIC-LOCATION:America/New_York
BEGIN:STANDARD
DTSTART:20251102T010000
TZOFFSETFROM:-0400
TZOFFSETTO:-0500
TZNAME:EST
END:STANDARD
END:VTIMEZONE
END:VCALENDAR