BEGIN:VCALENDAR
VERSION:2.0
PRODID:-//wp-events-plugin.com//7.2.3.1//EN
TZID:America/New_York
X-WR-TIMEZONE:America/New_York
BEGIN:VEVENT
UID:152133@kingstonhappenings.org
DTSTART;TZID=America/New_York:20251007T180000
DTEND;TZID=America/New_York:20251007T180000
DTSTAMP:20251007T130826Z
URL:https://kingstonhappenings.org/events/trivia-tuesday/
SUMMARY:Trivia Tuesday
DESCRIPTION:TRIVIA TUESDAY\n\nCome join us for a night of laughs\, friendly
  competition\, and brain-busting fun!\n\nThis Tuesday\, October 7th starti
 ng at 6:00 PM until... whenever the trivia ends or the snacks run out!\n\n
 You will need to download an APP to your phone to play\n\nBring your A-gam
 e\, your team spirit\, and your appetite for victory (and snacks)!\n\nPriz
 es\, bragging rights\, and good vibes await.\n\nCome\, compete and get sev
 en years of good luck.\n\n#hudsonvalleydrink #hudsonalleyhappenings #kings
 tonnyevents #KingstonNY #darts #eatdrinklocal #pooltable
ATTACH;FMTTYPE=image/jpeg:https://kingstonhappenings.org/wp-content/upload
 s/2025/10/1000002067.jpg
CATEGORIES:@Featured,@Newsletter,Nightlife and entertainment,Sports and
 recreation
LOCATION:Kelly's Shamrock Tavern\, 482 Broadway\, KINGSTON\, NY\, 12401\, U
 nited States
GEO:41.92774;-73.999121
X-APPLE-STRUCTURED-LOCATION;VALUE=URI;X-ADDRESS=482 Broadway\, KINGSTON\, N
 Y\, 12401\, United States;X-APPLE-RADIUS=100;X-TITLE=Kelly's Shamrock Tave
 rn:geo:41.92774,-73.999121
END:VEVENT
BEGIN:VTIMEZONE
TZID:America/New_York
X-LIC-LOCATION:America/New_York
BEGIN:DAYLIGHT
DTSTART:20250309T030000
TZOFFSETFROM:-0500
TZOFFSETTO:-0400
TZNAME:EDT
END:DAYLIGHT
END:VTIMEZONE
END:VCALENDAR