BEGIN:VCALENDAR
VERSION:2.0
PRODID:-//wp-events-plugin.com//7.2.3.1//EN
TZID:America/New_York
X-WR-TIMEZONE:America/New_York
BEGIN:VEVENT
UID:152614@kingstonhappenings.org
DTSTART;TZID=America/New_York:20260122T183000
DTEND;TZID=America/New_York:20260326T203000
DTSTAMP:20260316T191010Z
URL:https://kingstonhappenings.org/events/trivia-at-west-kill-supply-5/
SUMMARY:Trivia at West Kill Supply
DESCRIPTION:Looking for a fun and handcrafted Trivia Night?\n&nbsp\;\n\nPro
 ve that you’re the champ of random knowledge\n\nevery second and fourth 
 Thursday of the month\, 6:30pm - 8:30pm at West Kill Supply\n\nhosted by M
 arian (@TheGermanHostsTrivia)\n\n&nbsp\;\n\nThere’s no cover charge\, so
  all you’re risking is your pride (and maybe a few brain cells).\n\nBrin
 g your friends\, form a dream team\, or fly solo—either way you’ll lau
 gh\, compete\, and maybe even walk away with some awesome prizes.\n\nMost 
 importantly\, you’ll have a blast testing just how useful (or useless) a
 ll those fun facts you’ve been saving really are!
ATTACH;FMTTYPE=image/jpeg:https://kingstonhappenings.org/wp-content/upload
 s/2025/11/PXL_20250912_002444512.MP-centered-small-1-1030x734-4.jpg
CATEGORIES:@Featured,@Newsletter,Nightlife and entertainment,Sports and
 recreation
LOCATION:Westkill Supply\, 602 Broadway Unit #2\, Kingston\, NY\, 12401\, U
 nited States
GEO:41.929774;-74.004185
X-APPLE-STRUCTURED-LOCATION;VALUE=URI;X-ADDRESS=602 Broadway Unit #2\, King
 ston\, NY\, 12401\, United States;X-APPLE-RADIUS=100;X-TITLE=Westkill Supp
 ly:geo:41.929774,-74.004185
END:VEVENT
BEGIN:VTIMEZONE
TZID:America/New_York
X-LIC-LOCATION:America/New_York
BEGIN:STANDARD
DTSTART:20251102T010000
TZOFFSETFROM:-0400
TZOFFSETTO:-0500
TZNAME:EST
END:STANDARD
BEGIN:DAYLIGHT
DTSTART:20260308T030000
TZOFFSETFROM:-0500
TZOFFSETTO:-0400
TZNAME:EDT
END:DAYLIGHT
END:VTIMEZONE
END:VCALENDAR