BEGIN:VCALENDAR
VERSION:2.0
PRODID:-//wp-events-plugin.com//7.2.3.1//EN
TZID:America/New_York
X-WR-TIMEZONE:America/New_York
BEGIN:VEVENT
UID:152592@kingstonhappenings.org
DTSTART;TZID=America/New_York:20251229T183000
DTEND;TZID=America/New_York:20251229T203000
DTSTAMP:20251222T171236Z
URL:https://kingstonhappenings.org/events/trivia-at-west-kill-supply-4/
SUMMARY:Trivia at West Kill Supply
DESCRIPTION:Looking for a weeknight escape from the between-the-holidays lu
 ll?\n&nbsp\;\n\nWe got you covered with this special occurrence of Trivia 
 at West Kill Supply!\n\n&nbsp\;\n\nEnjoy this fun and handcrafted Trivia N
 ight\, happening\n\nMonday\, December 29th\, 6:30–8:30 PM at West Kill S
 upply\n\nhosted by Marian (aka @TheGermanHostsTrivia)\n\n&nbsp\;\n\nThere
 ’s no cover charge\, so all you’re risking is your pride (and maybe a 
 few brain cells).\n\nBring your friends\, form a dream team\, or fly solo
 —either way you’ll laugh\, compete\, and maybe even walk away with som
 e awesome prizes.\n\nMost importantly\, you’ll have a blast testing just
  how useful (or useless) all those fun facts you’ve been saving really a
 re!\n\n&nbsp\;\n\n&nbsp\;\n\nUsually\, regularly happening every 2nd and 4
 th Thursday of the month from 6:30–8:30 PM.
ATTACH;FMTTYPE=image/jpeg:https://kingstonhappenings.org/wp-content/upload
 s/2025/11/PXL_20250912_002444512.MP-centered-small-1-1030x734-2.jpg
CATEGORIES:@Featured,@Newsletter,Nightlife and entertainment,Sports and
 recreation
LOCATION:Westkill Supply\, 602 Broadway Unit #2\, Kingston\, NY\, 12401\, U
 nited States
GEO:41.929774;-74.004185
X-APPLE-STRUCTURED-LOCATION;VALUE=URI;X-ADDRESS=602 Broadway Unit #2\, King
 ston\, NY\, 12401\, United States;X-APPLE-RADIUS=100;X-TITLE=Westkill Supp
 ly:geo:41.929774,-74.004185
END:VEVENT
BEGIN:VTIMEZONE
TZID:America/New_York
X-LIC-LOCATION:America/New_York
BEGIN:STANDARD
DTSTART:20251102T010000
TZOFFSETFROM:-0400
TZOFFSETTO:-0500
TZNAME:EST
END:STANDARD
END:VTIMEZONE
END:VCALENDAR